BEGIN:VCALENDAR
VERSION:2.0
PRODID:-//ChamberMaster//Event Calendar 2.0//EN
METHOD:PUBLISH
X-PUBLISHED-TTL:P3D
REFRESH-INTERVAL:P3D
CALSCALE:GREGORIAN
BEGIN:VEVENT
DTSTART:20250529T203000Z
DTEND:20250529T213000Z
X-MICROSOFT-CDO-ALLDAYEVENT:FALSE
SUMMARY:Yoga at Dover Station
DESCRIPTION:Diane Pappas has been guiding yoga practices for the past 15 years. She specializes in slower\, restorative style classes that are accessible to (just about) all bodies and ages.  She has taught a variety of different ability levels\, ranging from those who are unable to get off the floor without assistance to those who are balancing on one leg while standing.  Diane includes guided meditations and breathing techniques in order to bring the focus inward\, allowing her students to slow down and listen to their bodies.  Please bring a mat and towel or small blanket to cover up during savasana.  15 person limit in order to give each person a shoulder and temple massage (usually with aromatherapy) Diane is certified with IYTA and holds her own teaching insurance.\n\n\n\nRegister at www.doverstation.com
X-ALT-DESC;FMTTYPE=text/html:<p class="spz5zln" style="margin:0in\;vertical-align:baseline"><span style="font-size:7.5pt\;font-family:&quot\;Arial&quot\;\,sans-serif"><span style="font-size:14px\;"><span style="font-family:arial\;">Diane Pappas has been guiding yoga practices for the past 15 years. She specializes in slower\, restorative style classes that are accessible to (just about) all bodies and ages.&nbsp\; She has taught a variety of different ability levels\, ranging from those who are unable to get off the floor without assistance to those who are balancing on one leg while standing.&nbsp\; Diane includes guided meditations and breathing techniques in order to bring the focus inward\, allowing her students to slow down and listen to their bodies.&nbsp\; Please bring a mat and towel or small blanket to cover up during savasana.&nbsp\; 15 person limit in order to give each person a shoulder and temple massage (usually with aromatherapy) Diane is certified with IYTA and holds her own teaching insurance.<br />\n<br />\nRegister at&nbsp\;www.doverstation.com</span></span><o:p></o:p></span></p>\n
LOCATION:500 Dover Road Easton\, MD
UID:e.3409.8017
SEQUENCE:3
DTSTAMP:20260421T064824Z
URL:https://www.talbotchamber.org/events/details/yoga-at-dover-station-8017
END:VEVENT

END:VCALENDAR
