BEGIN:VCALENDAR
VERSION:2.0
PRODID:-//ChamberMaster//Event Calendar 2.0//EN
METHOD:PUBLISH
X-PUBLISHED-TTL:P3D
REFRESH-INTERVAL:P3D
CALSCALE:GREGORIAN
BEGIN:VEVENT
DTSTART:20250219T130000Z
DTEND:20250219T150000Z
X-MICROSOFT-CDO-ALLDAYEVENT:FALSE
SUMMARY:Women in Business Networking Group
DESCRIPTION:Attention Women Entrepreneurs of the Shore!\n\nYou're invited to a special event:\n\nStreamlined SEO & Social Media: A Unified Content Approach\n\nAre you ready to elevate your digital marketing game? Join us for a powerful session designed specifically for women business owners and entrepreneurs who want to take their online presence to the next level.\n\nIn this informative session\, we will show you how to unify your digital marketing efforts through structured content that powers all your platforms. Topics include:\n\n\n	Social Media\n	Blogs\n	Google Business Postings\n	Drip Marketing Emails\n\n\nWe'll dive into essential strategies like basic SEO\, keyword analysis\, understanding your brand and audience\, setting measurable goals\, and the best practices for boosting posts without running ads. By the end of the session\, you'll have a practical\, actionable plan to streamline your SEO and social media strategy and achieve meaningful results for your brand!\n\nMeet Your Expert: Andrew Persaud\n\nAndrew Persaud has over 15 years of experience in media\, marketing\, and website development\, working with a wide range of clients from small businesses to large corporations. Passionate about brand-building and marketing\, Andrew specializes in helping businesses refine their digital presence for better audience engagement and conversions. As the founder of AE2 Creative\, Andrew integrates digital marketing\, media production\, and website solutions to align projects with a client's vision and goals. Outside of work\, he enjoys family time\, grilling\, working on cars\, and tackling home renovation projects.\n\nDon't miss out on this valuable opportunity to learn how to take control of your digital marketing and drive real results for your business!\n\nPresented by Easton Advanced Aesthetics\, The Ivy\, and the Talbot County Chamber
X-ALT-DESC;FMTTYPE=text/html:<p><strong>Attention Women Entrepreneurs of the Shore!</strong></p>\n\n<p>You&#39\;re invited to a special event:</p>\n\n<p><strong>Streamlined SEO &amp\; Social Media: A Unified Content Approach</strong></p>\n\n<p>Are you ready to elevate your digital marketing game? Join us for a powerful session designed specifically for women business owners and entrepreneurs who want to take their online presence to the next level.</p>\n\n<p>In this informative session\, we will show you how to unify your digital marketing efforts through structured content that powers all your platforms. Topics include:</p>\n\n<ul>\n	<li>Social Media</li>\n	<li>Blogs</li>\n	<li>Google Business Postings</li>\n	<li>Drip Marketing Emails</li>\n</ul>\n\n<p>We&rsquo\;ll dive into essential strategies like basic SEO\, keyword analysis\, understanding your brand and audience\, setting measurable goals\, and the best practices for boosting posts&mdash\;without running ads. By the end of the session\, you&rsquo\;ll have a practical\, actionable plan to streamline your SEO and social media strategy and achieve meaningful results for your brand!</p>\n\n<p><strong>Meet Your Expert: Andrew Persaud</strong></p>\n\n<p>Andrew Persaud has over 15 years of experience in media\, marketing\, and website development\, working with a wide range of clients&mdash\;from small businesses to large corporations. Passionate about brand-building and marketing\, Andrew specializes in helping businesses refine their digital presence for better audience engagement and conversions. As the founder of AE2 Creative\, Andrew integrates digital marketing\, media production\, and website solutions to align projects with a client&rsquo\;s vision and goals. Outside of work\, he enjoys family time\, grilling\, working on cars\, and tackling home renovation projects.</p>\n\n<p>Don&#39\;t miss out on this valuable opportunity to learn how to take control of your digital marketing and drive real results for your business!</p>\n\n<p aria-hidden="true" class="x_MsoNormal" style="margin: 0in\; font-size: 12pt\; font-family: Aptos\, sans-serif\; color: rgb(36\, 36\, 36)\;">Presented by Easton Advanced Aesthetics\, The Ivy\, and the Talbot County Chamber</p>\n
LOCATION:The Ivy 12 W. Dover Street Easton\, MD
UID:e.3409.7763
SEQUENCE:3
DTSTAMP:20260421T122311Z
URL:https://www.talbotchamber.org/events/details/women-in-business-networking-group-7763
END:VEVENT

END:VCALENDAR
