BEGIN:VCALENDAR
VERSION:2.0
PRODID:-//ChamberMaster//Event Calendar 2.0//EN
METHOD:PUBLISH
X-PUBLISHED-TTL:P3D
REFRESH-INTERVAL:P3D
CALSCALE:GREGORIAN
BEGIN:VEVENT
DTSTART;VALUE=DATE:20250913
DTEND;VALUE=DATE:20250914
TRANSP:TRANSPARENT
X-MICROSOFT-CDO-ALLDAYEVENT:TRUE
SUMMARY:Walk to End Alzheimer's
DESCRIPTION:Walk to End Alzheimer's
X-ALT-DESC;FMTTYPE=text/html:Walk to End Alzheimer&#39\;s&nbsp\;<br />\n&nbsp\;
LOCATION:Idlewild Park Easton\, MD
UID:e.3409.8080
SEQUENCE:3
DTSTAMP:20260421T004226Z
URL:https://www.talbotchamber.org/events/details/walk-to-end-alzheimer-s-8080
END:VEVENT

END:VCALENDAR
