BEGIN:VCALENDAR
VERSION:2.0
PRODID:-//ChamberMaster//Event Calendar 2.0//EN
METHOD:PUBLISH
X-PUBLISHED-TTL:P3D
REFRESH-INTERVAL:P3D
CALSCALE:GREGORIAN
BEGIN:VEVENT
DTSTART:20260226T213000Z
DTEND:20260226T233000Z
X-MICROSOFT-CDO-ALLDAYEVENT:FALSE
SUMMARY:After-Hours Mixer - 4 Dogs Brewery
DESCRIPTION:Please note: The Location for our February Mixer has changed. \n\n\n\n   New Spot Alert! February's Mixer Location Update\n\nWe're mixing things up   February's Chamber After Hours Mixer will now take place at 4 Dogs Brewing Company at their new East-end Easton location.\n\n  10 East Avenue\, Easton\n\n   Thursday\, February 26th \n\n  4:30 6:30 PM\n\n\n\nConnect with fellow Chamber members\, enjoy great conversation\, and check out 4 Dogs in their fun new spot!\n\n\n\nWe look forward to returning to Old Brick Inn as the host of our June After-Hours Mixer. Thank you for your understanding\, and we look forward to seeing you soon!
X-ALT-DESC;FMTTYPE=text/html:<h3 data-end="1128" data-start="1067"><span style="font-size:16px\;">Please note: The Location&nbsp\;for our February Mixer has changed.&nbsp\;<br />\n<br />\n&#128062\;&#127866\; <strong data-end="1128" data-start="1076">New Spot Alert! February&rsquo\;s Mixer Location Update</strong></span></h3>\n\n<p data-end="1270" data-start="1129"><span style="font-size:16px\;">We&rsquo\;re mixing things up &mdash\; February&rsquo\;s Chamber After Hours Mixer will now take place at <a href="https://4dogsbrew.com/"><strong data-end="1236" data-start="1210">4 Dogs Brewing Company</strong></a> at their <strong data-end="1269" data-start="1246">new East-end Easton location</strong>.</span></p>\n\n<p data-end="1315" data-start="1272"><span style="font-size:16px\;">&#128205\; 10 East Avenue\, Easton<br />\n&nbsp\;</span>&#128197\;<span style="font-size:16px\;">&nbsp\;Thursday\, February 26th&nbsp\;<br data-end="1300" data-start="1297" />\n&#128351\; 4:30&ndash\;6:30 PM</span></p>\n\n<p data-end="1391" data-start="1317"><br />\n<span style="font-size:16px\;">Connect with fellow Chamber members\, enjoy great conversation\, and check out 4 Dogs in their fun new spot!<br />\n<br />\nWe look forward to returning to <strong data-end="378" data-start="361">Old Brick Inn</strong> as the host of our <strong data-end="424" data-start="398">June After-Hours Mixer</strong>. Thank you for your understanding\, and we look forward to seeing you soon!</span></p>\n
LOCATION:
UID:e.3409.1677
SEQUENCE:3
DTSTAMP:20260420T154414Z
URL:https://www.talbotchamber.org/events/details/update-new-location-for-february-after-hours-mixer-1677
END:VEVENT

END:VCALENDAR
