BEGIN:VCALENDAR
VERSION:2.0
PRODID:-//ChamberMaster//Event Calendar 2.0//EN
METHOD:PUBLISH
X-PUBLISHED-TTL:P3D
REFRESH-INTERVAL:P3D
CALSCALE:GREGORIAN
BEGIN:VEVENT
DTSTART:20251008T213000Z
DTEND:20251008T223000Z
X-MICROSOFT-CDO-ALLDAYEVENT:FALSE
SUMMARY:Travel Info Night: Alpine Lakes & Scenic Trains
DESCRIPTION:Chamber Travel Program Info Night: Alpine Lakes & Scenic Trains\n\nJoin us to learn about an unforgettable journey through Switzerland and Italy   from the legendary Glacier and Bernina Express trains to the sparkling shores of Lake Maggiore and the charm of St. Moritz. Explore Zurich\, Lucerne\, Zermatt\, and more while discovering quaint Alpine villages and breathtaking mountain vistas.\n\n\n\nA Collette travel expert will walk you through the full itinerary\, answer your questions\, and share everything you want to know about this once-in-a-lifetime trip. With more than 100 years of guided travel experience\, Collette is a world leader in making extraordinary journeys seamless and unforgettable.\n\n  Save $300 per person when you book before November 4th!\n\n  Click the digital brochure below for full itinerary and details -\n\nhttps://groups.gocollette.com/en-US/link/1301920\n\n  Reserve your seat at the Info Night today by clicking the blue Register button to the right
X-ALT-DESC;FMTTYPE=text/html:<p data-end="486" data-start="93"><span style="font-size:16px\;"><strong data-end="160" data-start="93">Chamber Travel Program Info Night: Alpine Lakes &amp\; Scenic Trains</strong><br data-end="163" data-start="160" />\nJoin us to learn about an unforgettable journey through Switzerland and Italy &mdash\; from the legendary Glacier and Bernina Express trains to the sparkling shores of Lake Maggiore and the charm of St. Moritz. Explore Zurich\, Lucerne\, Zermatt\, and more while discovering quaint Alpine villages and breathtaking mountain vistas.<br />\n<br />\nA <strong data-end="564" data-start="538">Collette travel expert</strong> will walk you through the full itinerary\, answer your questions\, and share everything you want to know about this once-in-a-lifetime trip.&nbsp\;With more than 100 years of guided travel experience\, Collette is a world leader in making extraordinary journeys seamless and unforgettable.</span></p>\n\n<p data-end="616" data-start="488"><span style="font-size:16px\;">&#128176\; <strong data-end="550" data-start="491">Save $300 per person when you book before November 4th!</strong><br data-end="553" data-start="550" />\n&#128073\; Click the digital brochure below for full itinerary and details -</span></p>\n\n<p data-end="616" data-start="488"><span style="font-size:16px\;"><a href="https://groups.gocollette.com/en-US/link/1301920">https://groups.gocollette.com/en-US/link/1301920</a></span></p>\n\n<p data-end="669" data-start="618"><span style="font-size:16px\;">&#128197\; <strong data-end="667" data-start="621">Reserve your seat at the Info Night today by clicking the blue Register button to the right &gt\;&gt\;</strong></span></p>\n
LOCATION:Info Night at the Talbot Chamber 101 Marlboro Ave.\, Ste. 53
UID:e.3409.8100
SEQUENCE:3
DTSTAMP:20260420T232034Z
URL:https://www.talbotchamber.org/events/details/travel-info-night-alpine-lakes-scenic-trains-8100
END:VEVENT

END:VCALENDAR
