BEGIN:VCALENDAR
VERSION:2.0
PRODID:-//ChamberMaster//Event Calendar 2.0//EN
METHOD:PUBLISH
X-PUBLISHED-TTL:P3D
REFRESH-INTERVAL:P3D
CALSCALE:GREGORIAN
BEGIN:VEVENT
DTSTART:20250731T220000Z
DTEND:20250803T020000Z
X-MICROSOFT-CDO-ALLDAYEVENT:FALSE
SUMMARY:Trappe Annual Fair
DESCRIPTION:Trappe Annual Fair\n\nThursday\, July 31st 6-10pm\n\nFriday\, August 1st 6-10pm\n\nSaturday\, August 2nd 6-10pm\n\nParade - Saturday 6pm\n\n\n\nFire truck rides\, hay rides\, food\, games and prizes.  Live entertainment.\n\n\n\nDonate to Cake Booth - 410-310-9727\n\nDonate to Silent Auction - 410-924-1764\n\nVolunteer to work booth - 443-496-1761\n\nParticipate in Parade - 443-614-9670
X-ALT-DESC;FMTTYPE=text/html:Trappe Annual Fair<br />\nThursday\, July 31st 6-10pm<br />\nFriday\, August 1st 6-10pm<br />\nSaturday\, August 2nd 6-10pm<br />\nParade - Saturday 6pm<br />\n<br />\nFire truck rides\, hay rides\, food\, games and prizes.&nbsp\; Live entertainment.<br />\n<br />\nDonate to Cake Booth - 410-310-9727<br />\nDonate to Silent Auction - 410-924-1764<br />\nVolunteer to work booth - 443-496-1761<br />\nParticipate in Parade - 443-614-9670
LOCATION:Trappe Volunteer Fire Department 4001 Powell Avenue Trappe\, MD
UID:e.3409.8027
SEQUENCE:3
DTSTAMP:20260421T005444Z
URL:https://www.talbotchamber.org/events/details/trappe-annual-fair-8027
END:VEVENT

END:VCALENDAR
