BEGIN:VCALENDAR
VERSION:2.0
PRODID:-//ChamberMaster//Event Calendar 2.0//EN
METHOD:PUBLISH
X-PUBLISHED-TTL:P3D
REFRESH-INTERVAL:P3D
CALSCALE:GREGORIAN
BEGIN:VEVENT
DTSTART:20250206T220000Z
DTEND:20250206T230000Z
X-MICROSOFT-CDO-ALLDAYEVENT:FALSE
SUMMARY:The Market at Dover Station Ribbon Cutting and Market Merchant Rendezvous
DESCRIPTION:Please come celebrate with us as we cut the ribbon for our newest member\n\nThe Market at Dover Station\n\n\n\nThe Market at Dover Station is a curated design market with an inviting atmosphere showcasing many local artisans and creators. Located in a revitalized historic building in charming downtown Easton\, Maryland\, the Market is part of the first phase of an exciting redevelopment in the heart of town. Come join us for a ribbon cutting and meet some of our local partners. We look forward to your visit!
X-ALT-DESC;FMTTYPE=text/html:<span style="font-family:arial\;"><strong><span style="font-size:16px\;"><span style="white-space-collapse: preserve\; background-color: rgb(255\, 255\, 255)\;">Please come celebrate with us as we cut the ribbon for our newest member<br />\n<a href="https://www.doverstation.com/">The Market at Dover Station</a></span></span></strong></span><br />\n<br />\n<span style="font-size:16px\;"><span style="font-family:arial\;"><strong>The Market at Dover Station is a curated design market with an inviting atmosphere showcasing many local artisans and creators. Located in a revitalized historic building in charming downtown&nbsp\;Easton\, Maryland\, the Market is part of the first phase of an exciting redevelopment in the heart of town. Come join us for a ribbon cutting and meet some of our local partners.&nbsp\;We look forward to your visit!</strong></span><br />\n&nbsp\;</span>
LOCATION:500 Dover Road Easton\, MD
UID:e.3409.7514
SEQUENCE:3
DTSTAMP:20260421T111427Z
URL:https://www.talbotchamber.org/events/details/the-market-at-dover-station-ribbon-cutting-and-market-merchant-rendezvous-7514
END:VEVENT

END:VCALENDAR
