BEGIN:VCALENDAR
VERSION:2.0
PRODID:-//ChamberMaster//Event Calendar 2.0//EN
METHOD:PUBLISH
X-PUBLISHED-TTL:P3D
REFRESH-INTERVAL:P3D
CALSCALE:GREGORIAN
BEGIN:VEVENT
DTSTART:20260425T150000Z
DTEND:20260425T180000Z
X-MICROSOFT-CDO-ALLDAYEVENT:FALSE
SUMMARY:The Blue Print to Home Ownership
DESCRIPTION:Financial Literacy Workshop\n\nLearn the Home Buying Process\n\nUnderstand Credit & Qualifications\n\nLearn the Lending Process\n\nUnderstand Down Payment & Grant Opportunities from our Experts! \n\n Registration Click Here
X-ALT-DESC;FMTTYPE=text/html:Financial Literacy Workshop<br />\nLearn the Home Buying Process<br />\nUnderstand Credit &amp\; Qualifications<br />\nLearn the Lending Process<br />\nUnderstand Down Payment &amp\; Grant Opportunities from our Experts!&nbsp\;<br />\n&nbsp\;Registration<a href="https://www.eventbrite.com/e/the-blueprint-to-homeownership-tickets-1986041524663?aff=oddtdtcreator&amp\;fbclid=IwY2xjawRXbmlleHRuA2FlbQIxMABicmlkETFadUFpV1dDYUFHWlpmZ0Vpc3J0YwZhcHBfaWQQMjIyMDM5MTc4ODIwMDg5MgABHkWPWKg_UgC6axWLTrR_o-KaHyTQxCxSmz_0ue7JBYvAIuALLbq2Dx4q42lL_aem_FrIeYU6WxtN64WRI_-lljg"> Click Here</a>
LOCATION:Md-Shore Board of Realtors 8615 Commerce Dr\, Ste 2 Easton\, MD 21601 410-822-8767
UID:e.3409.8340
SEQUENCE:3
DTSTAMP:20260424T164700Z
URL:https://www.talbotchamber.org/events/details/the-blue-print-to-home-ownership-8340
END:VEVENT

END:VCALENDAR
