BEGIN:VCALENDAR
VERSION:2.0
PRODID:-//ChamberMaster//Event Calendar 2.0//EN
METHOD:PUBLISH
X-PUBLISHED-TTL:P3D
REFRESH-INTERVAL:P3D
CALSCALE:GREGORIAN
BEGIN:VEVENT
DTSTART;VALUE=DATE:20251016
DTEND;VALUE=DATE:20251017
TRANSP:TRANSPARENT
X-MICROSOFT-CDO-ALLDAYEVENT:TRUE
SUMMARY:Talbot Free Library's 100th Anniversary Gala!
DESCRIPTION:SAVE THE DATE!\n\n\n\nStay tuned for more details!
X-ALT-DESC;FMTTYPE=text/html:SAVE THE DATE!<br />\n<br />\nStay tuned for more details!
LOCATION:
UID:e.3409.8023
SEQUENCE:3
DTSTAMP:20260420T231917Z
URL:https://www.talbotchamber.org/events/details/talbot-free-library-s-100th-anniversary-gala-8023
END:VEVENT

END:VCALENDAR
