BEGIN:VCALENDAR
VERSION:2.0
PRODID:-//ChamberMaster//Event Calendar 2.0//EN
METHOD:PUBLISH
X-PUBLISHED-TTL:P3D
REFRESH-INTERVAL:P3D
CALSCALE:GREGORIAN
BEGIN:VEVENT
DTSTART:20251216T213000Z
DTEND:20251216T233000Z
X-MICROSOFT-CDO-ALLDAYEVENT:FALSE
SUMMARY:Talbot Chamber's Annual Holiday Party
DESCRIPTION:Join us for the Talbot County Chamber of Commerce Holiday Party   hosted for the first time at The Market at Dover Station!\n\n\n\nCelebrate the season with fellow Chamber members in this vibrant new venue while enjoying festive networking and a delicious assortment of heavy hors d'oeuvres and small plates from Chamber member restaurants and culinary partners.\n\nThis year\, guests will also enjoy exclusive extended shopping hours in the Market's vendor area. Chamber members are invited to browse the Market's wonderful artists\, makers\, and artisans before the holiday party starts at 4:30 pm\, and throughout the event\, with the Market remaining open exclusively for Chamber guests. It's a perfect opportunity to pick up unique\, locally made holiday treasures while supporting local makers.\n\n  Arrive early to shop downstairs\, then join us upstairs for the holiday festivities!\n\n      Tuesday\, December 16\, 2025\n\n   Exclusive Shopping Extended Hours (downstairs)\n\n  Holiday Party: 4:30 6:30 PM (upstairs)\n\n  The Market at Dover Station\n\nThis event is free for Chamber members as our way of saying thank you for your continued support. Members are welcome to bring a colleague or friend who may enjoy connecting with our Chamber community. We look forward to celebrating the season with you!
X-ALT-DESC;FMTTYPE=text/html:<p data-end="2149" data-start="1784"><span style="font-size:18px\;"><strong data-end="359" data-start="232">Join us for the Talbot County Chamber of Commerce Holiday Party &mdash\; hosted for the first time at The Market at Dover Station!</strong><br data-end="362" data-start="359" />\n<br />\nCelebrate the season with fellow Chamber members in this vibrant new venue while enjoying festive networking and a delicious assortment of <strong data-end="542" data-start="501">heavy hors d&rsquo\;oeuvres and small plates</strong> from Chamber member restaurants and culinary partners.</span></p>\n\n<p data-end="1084" data-start="599"><span style="font-size:18px\;">This year\, guests will also enjoy <strong data-end="670" data-start="633">exclusive extended shopping hours</strong> in the Market&rsquo\;s vendor area. Chamber members are invited to browse the Market&rsquo\;s wonderful artists\, makers\, and artisans before the holiday party starts at 4:30 pm\,&nbsp\;<strong data-end="849" data-start="791">and throughout the event</strong>\, with the Market remaining open exclusively for Chamber guests.&nbsp\;It&rsquo\;s a perfect opportunity to pick up unique\, locally made holiday treasures while supporting local makers.</span></p>\n\n<p data-end="1175" data-start="1086"><span style="font-size:18px\;">&#10024\; <strong data-end="1175" data-start="1088">Arrive early to shop downstairs\, then join us upstairs for the holiday festivities!</strong></span></p>\n\n<p data-end="1373" data-start="1177"><span style="font-size:18px\;"><span data-end="1209" data-start="1180">&nbsp\; &nbsp\; &nbsp\; <strong>Tuesday</strong></span><strong data-end="1209" data-start="1180">\, December 16\, 2025</strong><br data-end="1212" data-start="1209" />\n&#128717\;&#65039\; <strong data-end="1239" data-start="1216">Exclusive Shopping <em>Extended Hours&nbsp\;</em></strong><em>(downstairs)</em><br data-end="1291" data-start="1288" />\n&#129346\; <strong data-end="1312" data-start="1294">Holiday Party:</strong> 4:30&ndash\;6:30 PM (upstairs)<br data-end="1339" data-start="1336" />\n&#128205\; <strong data-end="1373" data-start="1342">The Market at Dover Station</strong></span></p>\n\n<p data-end="1636" data-start="1375"><span style="font-size:18px\;">This event is <strong data-end="1417" data-start="1389">free for Chamber members</strong> as our way of saying thank you for your continued support. Members are welcome to bring a colleague or friend who may enjoy connecting with our Chamber community. <strong data-end="1636" data-start="1581">We look forward to celebrating the season with you!</strong></span></p>\n
LOCATION:The Market at Dover Station 500 Dover Road Easton\, MD.
UID:e.3409.8153
SEQUENCE:3
DTSTAMP:20260420T184756Z
URL:https://www.talbotchamber.org/events/details/talbot-chamber-s-annual-holiday-party-8153
END:VEVENT

END:VCALENDAR
