BEGIN:VCALENDAR
VERSION:2.0
PRODID:-//ChamberMaster//Event Calendar 2.0//EN
METHOD:PUBLISH
X-PUBLISHED-TTL:P3D
REFRESH-INTERVAL:P3D
CALSCALE:GREGORIAN
BEGIN:VEVENT
DTSTART:20260214T000000Z
DTEND:20260214T013000Z
X-MICROSOFT-CDO-ALLDAYEVENT:FALSE
SUMMARY:SMCC Valentine's Eve Pizzazz and Jazz
DESCRIPTION:Join us for an evening of jazz with the Julie Parsons Project Jazz Trio at the St. Michaels Community Center where you will enjoy cabaret-style seating with sweet & savory bites and a bottle of prosecco on each table.  All proceeds support SMCC's programming\, including the food distribution program.
X-ALT-DESC;FMTTYPE=text/html:Join us for an evening of jazz with the Julie Parsons Project Jazz Trio at the St. Michaels Community Center where you will enjoy cabaret-style seating with sweet &amp\; savory bites and a bottle of prosecco on each table.&nbsp\; All proceeds support SMCC&#39\;s programming\, including the food distribution program.&nbsp\;&nbsp\;
LOCATION:St. Michaels Community Center\, 103 Railroad Ave\, St. Michaels MD 21663
UID:e.3409.8297
SEQUENCE:3
DTSTAMP:20260420T172156Z
URL:https://www.talbotchamber.org/events/details/smcc-valentine-s-eve-pizzazz-and-jazz-8297
END:VEVENT

END:VCALENDAR
