BEGIN:VCALENDAR
VERSION:2.0
PRODID:-//ChamberMaster//Event Calendar 2.0//EN
METHOD:PUBLISH
X-PUBLISHED-TTL:P3D
REFRESH-INTERVAL:P3D
CALSCALE:GREGORIAN
BEGIN:VEVENT
DTSTART:20250213T210000Z
DTEND:20250213T230000Z
X-MICROSOFT-CDO-ALLDAYEVENT:FALSE
SUMMARY:Sip | Savor | Shop
DESCRIPTION:2nd Thursdays Open House from 4 PM to 6 PM - Sip | Savor | Shop\n\n\n\nImmerse yourself in the flavors and culture of Greece at our monthly Greek food event! Enjoy a range of cheeses like creamy feta and aged Kasseri\, paired with exquisite Greek olives\, stuffed vine leaves and other Greek mezes. Savor a Greek red and white wine that blend ancient vineyards with modern expertise.  Join us for this culinary adventure through Greece and bring a friend!
X-ALT-DESC;FMTTYPE=text/html:2nd Thursdays Open House from 4 PM to 6 PM - Sip | Savor | Shop<br />\n<br />\nImmerse yourself in the flavors and culture of Greece at our monthly Greek food event! Enjoy a range of cheeses like creamy feta and aged Kasseri\, paired with exquisite Greek olives\, stuffed vine leaves and other Greek mezes. Savor a Greek red and white wine that blend ancient vineyards with modern expertise.&nbsp\; Join us for this culinary adventure through Greece and bring a friend!
LOCATION:29523 Canvasback Drive Easton | MD | 21601
UID:e.3409.3514
SEQUENCE:3
DTSTAMP:20260421T122725Z
URL:https://www.talbotchamber.org/events/details/sip-savor-shop-02-13-2025-3514
END:VEVENT

END:VCALENDAR
