BEGIN:VCALENDAR
VERSION:2.0
PRODID:-//ChamberMaster//Event Calendar 2.0//EN
METHOD:PUBLISH
X-PUBLISHED-TTL:P3D
REFRESH-INTERVAL:P3D
CALSCALE:GREGORIAN
BEGIN:VEVENT
DTSTART;VALUE=DATE:20261002
DTEND;VALUE=DATE:20261003
TRANSP:TRANSPARENT
X-MICROSOFT-CDO-ALLDAYEVENT:TRUE
SUMMARY:SHOOT FOR SUCCESS - Chamber Sporting Clay Tournament
DESCRIPTION:Save the Date! October 2\, 2026\n\nJoin the Talbot County Chamber on Friday\, October 2\, 2026\, at The Point at Pintail for our annual Shoot for Success Sporting Clays Tournament   a high-energy day designed to bring together business leaders\, colleagues\, and community partners from across Talbot County.\n\nSet against the beautiful backdrop of Maryland's Eastern Shore\, this multi-station sporting clay experience offers the perfect blend of outdoor fun\, friendly competition\, and meaningful connection. Whether you're an experienced shooter or trying something new\, the event is a great way to strengthen relationships\, build new ones\, and support the Chamber's mission of empowering local businesses.\n\nProceeds from the tournament will benefit the Talbot County Chamber Foundation\, supporting local entrepreneurs and strengthening programs that help our business community grow and thrive.\n\nFull event details and registration will be released in early 2026   but sponsorship opportunities are already available for those who want to secure early visibility and support this signature Chamber fundraiser.\n\nFor early sponsorship or registration inquiries\, contact:\n\nChamber Office: 410-822-4653\n\nAmy Kreiner: 443-790-7680\n\nLet's shoot for success   together.
X-ALT-DESC;FMTTYPE=text/html:<p data-end="848" data-start="593"><span style="font-size:18px\;">Save the Date! October 2\, 2026</span></p>\n\n<p data-end="612" data-start="311"><span style="font-size:16px\;">Join the Talbot County Chamber on <strong data-end="393" data-start="366">Friday\, October 2\, 2026</strong>\, at <strong data-end="422" data-start="398">The Point at Pintail</strong> for our annual <strong data-end="485" data-start="438">Shoot for Success Sporting Clays Tournament</strong> &mdash\; a high-energy day designed to bring together business leaders\, colleagues\, and community partners from across Talbot County.</span></p>\n\n<p data-end="1010" data-start="614"><span style="font-size:16px\;">Set against the beautiful backdrop of Maryland&rsquo\;s Eastern Shore\, this multi-station sporting clay experience offers the perfect blend of outdoor fun\, friendly competition\, and meaningful connection. Whether you&rsquo\;re an experienced shooter or trying something new\, the event is a great way to strengthen relationships\, build new ones\, and support the Chamber&rsquo\;s mission of empowering local businesses.</span></p>\n\n<p data-end="1185" data-start="1012"><span style="font-size:16px\;">Proceeds from the tournament will benefit the <strong>Talbot County Chamber Foundation\,</strong> supporting local entrepreneurs and strengthening programs that help our business community grow and thrive.</span></p>\n\n<p data-end="1404" data-start="1187"><span style="font-size:16px\;">Full event details and registration will be released in early 2026 &mdash\; but <strong data-end="1403" data-start="1260">sponsorship opportunities are already available for those who want to secure early visibility and support this signature Chamber fundraiser</strong>.</span></p>\n\n<p data-end="1518" data-start="1406"><span style="font-size:16px\;"><strong data-end="1451" data-start="1406">For early sponsorship or registration inquiries\, contact:</strong><br data-end="1454" data-start="1451" />\n<strong data-end="1473" data-start="1454">Chamber Office:</strong> 410-822-4653<br data-end="1489" data-start="1486" />\n<strong data-end="1505" data-start="1489">Amy Kreiner:</strong> 443-790-7680</span></p>\n\n<p data-end="1559" data-start="1520"><span style="font-size:16px\;"><strong data-end="1559" data-start="1520">Let&rsquo\;s shoot for success &mdash\; together.</strong></span></p>\n
LOCATION:The Point at Pintail 511 Pintail Point Farm Lane Queenstown\, MD
UID:e.3409.8160
SEQUENCE:3
DTSTAMP:20260420T215438Z
URL:https://www.talbotchamber.org/events/details/shoot-for-success-chamber-sporting-clay-tournament-8160
END:VEVENT

END:VCALENDAR
