BEGIN:VCALENDAR
VERSION:2.0
PRODID:-//ChamberMaster//Event Calendar 2.0//EN
METHOD:PUBLISH
X-PUBLISHED-TTL:P3D
REFRESH-INTERVAL:P3D
CALSCALE:GREGORIAN
BEGIN:VEVENT
DTSTART:20240927T120000Z
DTEND:20240927T173000Z
X-MICROSOFT-CDO-ALLDAYEVENT:FALSE
SUMMARY:Shoot for Success! Chamber Clay Shoot Tournament
DESCRIPTION:Join us for a fun-filled day benefitting the Talbot Chamber's new SMALL BUSINESS RESOURCE CENTER!\n\n\n\nYou're invited to join us on September 27th for an unforgettable day of camaraderie\, friendly competition\, and networking admist the stunning beauty and backdrop of the Eastern Shore.\n\n\n\nGather with colleagues\, friends\, area business leaders and chamber supporters for a multi-station clay shoot at the scenic Point at Pintail. Whether you're a seasoned marksman or trying clay shooting for the first time\, this event promises fun and excitement for all.\n\n\n\nYour participation will help the Talbot Chamber create a new Small Business Resource Center\, located right within the Chamber's Easton office\; a one-stop shop filled with essential tools and support for entrepreneurs and small businesses looking to start or grow their business. This space will also serve as a valuable satellite office for the Chamber's many resources partners\, such as the Small Business Association\, Small Business Development Center\, SCORE and more!\n\n\n\nYour registration includes: \n\n	50 Clays per Person\n	Eye and Ear Protection \n	Shuttle Transportatin Available \n	Awards Ceremony\n	Delicious HOT Barbecue Lunch from RUDE BBQ!  \n\n Enjoy exclusive raffles and a silent auction tailored to clay enthusiasts. Registrants may bring their own firearms and ammunition or\, rentals and shells are available on site.\n\n\n\nENTER OUR GUN RAFFLE\, courtesy of Molly's Place in Kennedyville:\n\nBeretta A300 Ultima Shotgun - 12 Gauge\, 3" Chamber\, 28" Barrel\, Black/Gray Semi-Auto\n Drawing held day of event.\n\nDonated by: Molly's Place in Kennedyville\, MD\n\n$20/per ticket or 6 for $100\n\n\n\nCome be part of this exciting new Talbot Chamber fundraiser!\n\nCall for Event Sponsorship details and benefits.\n\n410-822-4653 or 443-790-7680
X-ALT-DESC;FMTTYPE=text/html:<span style="font-size:16px\;"><span style="font-family: verdana\;">Join us for a fun-filled day benefitting the Talbot Chamber&#39\;s new <strong>SMALL BUSINESS RESOURCE CENTER!</strong><br />\n<br />\nYou&#39\;re invited to join us on September 27th for an unforgettable day of camaraderie\, friendly competition\, and networking admist the stunning beauty and backdrop of the Eastern Shore.<br />\n<br />\nGather with&nbsp\;</span><span style="background:white\;"><span style="font-family:helvetica\,sans-serif\;"><span style="font-family:verdana\;">colleagues\, friends\, area business leaders and chamber supporters for a multi-station clay shoot at the scenic <a href="https://pointatpintail.com/">Point at Pintail</a>. Whether you&#39\;re a seasoned marksman or trying clay shooting for the first time\, this event promises fun and excitement for all.<br />\n<br />\nYour participation will help the Talbot Chamber create a new <strong>Small Business Resource Center</strong>\, located right within the Chamber&#39\;s Easton office\; a <em>one-stop shop</em> filled with essential tools and support for entrepreneurs and small businesses looking to start or grow their business. This space will also serve as a valuable satellite office for the Chamber&#39\;s many resources partners\, such as the Small Business Association\, Small Business Development Center\, SCORE and more!</span></span></span></span><br />\n<br />\n<span style="font-size:16px\;"><span style="background:white\;"><span style="font-family:helvetica\,sans-serif\;"><span style="font-family:verdana\;">Your registration includes:&nbsp\;</span></span></span></span>\n<ul>\n	<li><span style="font-size:16px\;"><span style="background:white\;"><span style="font-family:helvetica\,sans-serif\;"><span style="font-family:verdana\;">50 Clays per Person</span></span></span></span></li>\n	<li><span style="font-size:16px\;"><span style="background:white\;"><span style="font-family:helvetica\,sans-serif\;"><span style="font-family:verdana\;">Eye and Ear Protection&nbsp\;</span></span></span></span></li>\n	<li><span style="font-size:16px\;"><span style="background:white\;"><span style="font-family:helvetica\,sans-serif\;"><span style="font-family:verdana\;">Shuttle Transportatin Available&nbsp\;</span></span></span></span></li>\n	<li><span style="font-size:16px\;"><span style="background:white\;"><span style="font-family:helvetica\,sans-serif\;"><span style="font-family:verdana\;">Awards&nbsp\;Ceremony</span></span></span></span></li>\n	<li><span style="font-size:16px\;"><span style="background:white\;"><span style="font-family:helvetica\,sans-serif\;"><span style="font-family:verdana\;">Delicious HOT Barbecue Lunch from RUDE BBQ!&nbsp\;&nbsp\;</span></span></span></span></li>\n</ul>\n<span style="font-size:16px\;"> <span style="background:white\;"><span style="font-family:helvetica\,sans-serif\;"><span style="font-family:verdana\;">Enjoy exclusive raffles and a silent auction tailored to clay enthusiasts. Registrants&nbsp\;may bring their own firearms and ammunition or\, rentals and shells are available on site.</span></span><br />\n<br />\n<span style="color:#FF0000\;">ENTER OUR GUN RAFFLE\, courtesy of Molly&#39\;s Place in Kennedyville:</span></span></span>\n\n<h2 style="box-sizing: border-box\; font-family: &quot\;Source Sans Pro&quot\;\, sans-serif\; line-height: 28px\; color: rgb(0\, 0\, 0)\; margin: 0px\; font-size: 24px\; padding-bottom: 5px\; background-color: rgb(250\, 250\, 250)\;"><span style="color:#FF0000\;"><span style="font-size:16px\;">Beretta A300 Ultima Shotgun - 12 Gauge\, 3&quot\; Chamber\, 28&quot\; Barrel\, Black/Gray Semi-<span style="font-family:verdana\;">Auto</span></span></span></h2>\n<span style="color:#FF0000\;"> </span><span style="font-family:verdana\;"><span style="color:#FF0000\;"><span style="font-size:16px\;"><span style="background:white\;">Drawing held day of event.</span></span></span><br />\n<span style="box-sizing: border-box\; outline: 0px\; font-size: 14px\; letter-spacing: 0.5px\;"><span style="font-size:16px\;"><span style="color:#FF0000\;">Donated by: </span><a href="https://www.mymollysfirearms.com/"><span style="color:#FF0000\;">Molly&#39\;s Place</span></a><span style="color:#FF0000\;"> in Kennedyville\, MD</span></span><br style="box-sizing: border-box\;" />\n<span style="color:#FF0000\;"><span style="font-size:16px\;">$20/per ticket or 6 for $100</span></span></span></span><br style="box-sizing: border-box\;" />\n<br />\n<span style="font-size:16px\;"><span style="background:white\;"><span style="font-family:verdana\;">Come be part of this exciting new Talbot Chamber fundraiser!<br />\n<strong>Call for Event Sponsorship details and benefits.</strong><br />\n410-822-4653 or 443-790-7680</span></span></span><br />\n&nbsp\;
LOCATION:The Point at Pintail 511 Pintail Point Farm Lane Queenstown\, MD
UID:e.3409.7167
SEQUENCE:3
DTSTAMP:20260422T085941Z
URL:https://www.talbotchamber.org/events/details/shoot-for-success-chamber-clay-shoot-tournament-7167
END:VEVENT

END:VCALENDAR
