BEGIN:VCALENDAR
VERSION:2.0
PRODID:-//ChamberMaster//Event Calendar 2.0//EN
METHOD:PUBLISH
X-PUBLISHED-TTL:P3D
REFRESH-INTERVAL:P3D
CALSCALE:GREGORIAN
BEGIN:VEVENT
DTSTART:20250919T130000Z
DTEND:20250919T170000Z
X-MICROSOFT-CDO-ALLDAYEVENT:FALSE
SUMMARY:SBA Community Office Hours
DESCRIPTION:The US Small Business Administration (SBA) Baltimore District Office will be holding office hours at the Talbot County Chamber of Commerce on the 3rd Friday of the month\, from 9am to 1pm (April thru September 2025).  Simply drop by\, or reserve a time slot with Rachel Howard\, Economic Development Specialist\, to learn more about how SBA's counseling\, government contracting and access to capital programs can help you start or grow your small business.  sba.gov\n\n\n\nClick here to reserve a time slot
X-ALT-DESC;FMTTYPE=text/html:<span style="font-size:14px\;">The US Small Business Administration (SBA) Baltimore District Office will be holding office hours at the Talbot County Chamber of Commerce on the 3rd Friday of the month\, from 9am to 1pm (April thru September 2025).&nbsp\; Simply drop by\, or reserve a time slot with Rachel Howard\, Economic Development Specialist\,&nbsp\;to learn more about how SBA&#39\;s counseling\, government contracting and access to capital programs can help you start or grow your small business.&nbsp\; <a href="https://www.sba.gov/business-guide/grow-your-business">sba.gov</a><br />\n<br />\n<a href="https://outlook.office365.com/book/SBACommunityOfficeHours@sba123.onmicrosoft.com/">Click here to reserve a time slot</a></span><br />\n&nbsp\;
LOCATION:101 Marlboro Avenue Suite #53 Easton\, MD
UID:e.3409.7962
SEQUENCE:3
DTSTAMP:20260420T231725Z
URL:https://www.talbotchamber.org/events/details/sba-community-office-hours-7962
END:VEVENT

END:VCALENDAR
