BEGIN:VCALENDAR
VERSION:2.0
PRODID:-//ChamberMaster//Event Calendar 2.0//EN
METHOD:PUBLISH
X-PUBLISHED-TTL:P3D
REFRESH-INTERVAL:P3D
CALSCALE:GREGORIAN
BEGIN:VEVENT
DTSTART:20250524T170000Z
DTEND:20250524T210000Z
X-MICROSOFT-CDO-ALLDAYEVENT:FALSE
SUMMARY:Roll’n Crab: The Crab EggRoll Experience
DESCRIPTION:Roll'n Crab: The Crab EggRoll Experience \n\n\n\nJoin Roll'n Crab\, LLC this Saturday from 1:00 PM to 5:00 PM for a flavor-packed pop-up! Indulge in their Signature Crab EggRolls crispy on the outside\, loaded with jumbo lump crab and their signature Mandatory Sauce on the inside.\n\n\n\nLocation: Four Eleven Kitchen\n\nTime: 1:00 PM   5:00 PM\n\n\n\nSecure your rolls early they sell out fast!
X-ALT-DESC;FMTTYPE=text/html:<span style="color:#000000"><span style="font-family:-apple-system\,blinkmacsystemfont\,segoe ui\,roboto\,helvetica\,arial\,sans-serif\; font-size:14px">Roll&rsquo\;n Crab: The Crab EggRoll Experience&nbsp\;</span><br />\n<br />\n<span style="font-family:-apple-system\,blinkmacsystemfont\,segoe ui\,roboto\,helvetica\,arial\,sans-serif\; font-size:14px">Join Roll&rsquo\;n Crab\, LLC this Saturday from 1:00 PM to 5:00 PM for a flavor-packed pop-up! Indulge in their Signature Crab EggRolls&mdash\;crispy on the outside\, loaded with jumbo lump crab and their signature Mandatory Sauce on the inside.</span><br />\n<br />\n<span style="font-family:-apple-system\,blinkmacsystemfont\,segoe ui\,roboto\,helvetica\,arial\,sans-serif\; font-size:14px">Location: Four Eleven Kitchen</span><br />\n<span style="font-family:-apple-system\,blinkmacsystemfont\,segoe ui\,roboto\,helvetica\,arial\,sans-serif\; font-size:14px">Time: 1:00 PM &ndash\; 5:00 PM</span><br />\n<br />\n<span style="font-family:-apple-system\,blinkmacsystemfont\,segoe ui\,roboto\,helvetica\,arial\,sans-serif\; font-size:14px">Secure your rolls early&mdash\;they sell out fast!</span></span>
LOCATION:411-A Dorchester Ave\, Cambridge\, MD
UID:e.3409.7993
SEQUENCE:3
DTSTAMP:20260421T064701Z
URL:https://www.talbotchamber.org/events/details/roll-n-crab-the-crab-eggroll-experience-7993
END:VEVENT

END:VCALENDAR
