BEGIN:VCALENDAR
VERSION:2.0
PRODID:-//ChamberMaster//Event Calendar 2.0//EN
METHOD:PUBLISH
X-PUBLISHED-TTL:P3D
REFRESH-INTERVAL:P3D
CALSCALE:GREGORIAN
BEGIN:VEVENT
DTSTART:20251122T170000Z
DTEND:20251122T190000Z
X-MICROSOFT-CDO-ALLDAYEVENT:FALSE
SUMMARY:Ribbon Cutting: Starbucks - Easton Bypass!
DESCRIPTION:A SMALL BEAN WITH BIG IMPACT.\n\n\n\nA handcrafted moment\, made with care by Starbuck's skilled green aproned baristas.\n\n\n\nA welcoming coffeehouse culture that sparks community\, connection\, and joy.\n\n\n\nCome join us for the Grand Opening and Ribbon Cutting for Easton's newest Starbucks at Waterside Plaza on the Easton Bypass!\n\n\n\nTalbot Humane Society 12-2\n\nChamber of Commerce Ribbon Cutting 1pm\n\nEaston Police K-9 Meet and Greet 12-2\n\nEaston Fire Dept - Touch a Truck 12-2\n\n\n\nWe're looking forward to seeing you there!
X-ALT-DESC;FMTTYPE=text/html:<span style="font-size:18px\;"><strong>A SMALL BEAN WITH BIG IMPACT.</strong><br />\n<br />\nA handcrafted moment\, made with care by Starbuck&#39\;s skilled green aproned baristas.<br />\n<br />\nA welcoming coffeehouse culture that sparks community\, connection\, and joy.<br />\n<br />\nCome join us for the Grand Opening and Ribbon Cutting for Easton&#39\;s newest Starbucks at Waterside Plaza on the Easton Bypass!<br />\n<br />\nTalbot Humane Society 12-2<br />\nChamber of Commerce Ribbon Cutting 1pm<br />\nEaston Police K-9 Meet and Greet 12-2<br />\nEaston Fire Dept - Touch a Truck 12-2<br />\n<br />\nWe&#39\;re looking forward to seeing you there!</span><br />\n<br />\n<br />\n&nbsp\;
LOCATION:28575 Marlboro Avenue Easton\, MD
UID:e.3409.8152
SEQUENCE:3
DTSTAMP:20260420T201146Z
URL:https://www.talbotchamber.org/events/details/ribbon-cutting-starbucks-easton-bypass-8152
END:VEVENT

END:VCALENDAR
