BEGIN:VCALENDAR
VERSION:2.0
PRODID:-//ChamberMaster//Event Calendar 2.0//EN
METHOD:PUBLISH
X-PUBLISHED-TTL:P3D
REFRESH-INTERVAL:P3D
CALSCALE:GREGORIAN
BEGIN:VEVENT
DTSTART:20240912T213000Z
DTEND:20240912T230000Z
X-MICROSOFT-CDO-ALLDAYEVENT:FALSE
SUMMARY:Ribbon Cutting: Four Eleven Kitchen
DESCRIPTION:The moment we've all been waiting for has arrived! The Foodpreneur Hub at the Packing House in Cambridge is officially open\, and Four Eleven Kitchen is thrilled to invite you to our Ribbon Cutting and Business After Hours to celebrate with us this exciting milestone.\n\n\n\nJoin us and discover this remarkable commercial kitchen\, nestled within a nurturing community. With access to essential resources and a reliable workspace\, the Foodpreneur Hub offers the perfect environment for professional growth and meaningful community impact.\n\n\n\nWe look forward to welcoming you and sharing this special occasion. Come see for yourself the Foodpreneur opportunities that await!\n\n\n\nPlease RSVP by clicking the REGISTER button
X-ALT-DESC;FMTTYPE=text/html:<span style="font-size:18px\;"><span style="color: rgb(68\, 68\, 68)\; font-family: Questrial\, sans-serif\; background-color: rgb(255\, 255\, 255)\;">The moment we&#39\;ve all been waiting for has arrived! The Foodpreneur Hub at the Packing House in Cambridge is officially open\, and Four Eleven Kitchen is thrilled to invite you to our Ribbon Cutting and Business After Hours to celebrate with us this exciting milestone.</span><br style="box-sizing: border-box\; color: rgb(68\, 68\, 68)\; font-family: Questrial\, sans-serif\; font-size: 16px\; background-color: rgb(255\, 255\, 255)\;" />\n<br style="box-sizing: border-box\; color: rgb(68\, 68\, 68)\; font-family: Questrial\, sans-serif\; font-size: 16px\; background-color: rgb(255\, 255\, 255)\;" />\n<span style="color: rgb(68\, 68\, 68)\; font-family: Questrial\, sans-serif\; background-color: rgb(255\, 255\, 255)\;">Join us and discover this remarkable commercial kitchen\, nestled within a nurturing community. With access to essential resources and a reliable workspace\, the Foodpreneur Hub offers the perfect environment for professional growth and meaningful community impact.</span><br style="box-sizing: border-box\; color: rgb(68\, 68\, 68)\; font-family: Questrial\, sans-serif\; font-size: 16px\; background-color: rgb(255\, 255\, 255)\;" />\n<br style="box-sizing: border-box\; color: rgb(68\, 68\, 68)\; font-family: Questrial\, sans-serif\; font-size: 16px\; background-color: rgb(255\, 255\, 255)\;" />\n<span style="color: rgb(68\, 68\, 68)\; font-family: Questrial\, sans-serif\; background-color: rgb(255\, 255\, 255)\;">We look forward to welcoming you and sharing this special occasion. Come see for yourself the Foodpreneur opportunities that await!</span><br style="box-sizing: border-box\; color: rgb(68\, 68\, 68)\; font-family: Questrial\, sans-serif\; font-size: 16px\; background-color: rgb(255\, 255\, 255)\;" />\n<br style="box-sizing: border-box\; color: rgb(68\, 68\, 68)\; font-family: Questrial\, sans-serif\; font-size: 16px\; background-color: rgb(255\, 255\, 255)\;" />\n<span style="color: rgb(68\, 68\, 68)\; font-family: Questrial\, sans-serif\; background-color: rgb(255\, 255\, 255)\;">Please RSVP by clicking the REGISTER button</span></span>
LOCATION:411 Kitchen The Packing House 411A Dorchester Avenue Cambridge\, MD 21613
UID:e.3409.7170
SEQUENCE:3
DTSTAMP:20260422T084359Z
URL:https://www.talbotchamber.org/events/details/ribbon-cutting-four-eleven-kitchen-7170
END:VEVENT

END:VCALENDAR
