BEGIN:VCALENDAR
VERSION:2.0
PRODID:-//ChamberMaster//Event Calendar 2.0//EN
METHOD:PUBLISH
X-PUBLISHED-TTL:P3D
REFRESH-INTERVAL:P3D
CALSCALE:GREGORIAN
BEGIN:VEVENT
DTSTART:20241004T190000Z
DTEND:20241004T200000Z
X-MICROSOFT-CDO-ALLDAYEVENT:FALSE
SUMMARY:Ribbon Cutting for Libby's Loving Hands
DESCRIPTION:Libby's Loving Hands is cutting the ribbon on Oct. 4th at their location at 32 S. Washington St\, Ste #3 in Easton\, with a full reception to follow on Oct. 5th from 6-11pm at the Academy of the Arts at 106 South St. in Easton\, MD.\n\n\n\nLibby's Loving Hands was founded in 2020 in memory of the owner's grandmother\, the gracious and kind-hearted Mrs. Libby. Mrs. Libby was a nursing aide and an incredible woman who dedicated her life to caring for the sick\, her community\, and everyone she encountered. Through Libby's Loving Hands\, her legacy lives on through their commitment to providing the very best care for each and every one of our clients.\n\nAt the core of Libby's Loving Hands is the belief that seniors deserve to age gracefully with compassion\, patience\, and respect woven into every aspect of their care.
X-ALT-DESC;FMTTYPE=text/html:<p class="font_7 wixui-rich-text__text" style="background-image: initial\; background-position: initial\; background-size: initial\; background-repeat: initial\; background-attachment: initial\; background-origin: initial\; background-clip: initial\; border: 0px\; outline: 0px\; padding: 0px\; vertical-align: baseline\; pointer-events: auto\; font-size: 20px\; line-height: 1.67em\; color: rgb(var(--color_14))\; letter-spacing: 0.02em\; margin-block: 0px\; margin: 0px\;"><span style="font-size:18px\;"><span style="font-family:arial\;"><span class="wixui-rich-text__text" style="background-image: initial\; background-position: initial\; background-size: initial\; background-repeat: initial\; background-attachment: initial\; background-origin: initial\; background-clip: initial\; border: 0px\; margin: 0px\; outline: 0px\; padding: 0px\; vertical-align: baseline\; letter-spacing: 0em\;">Libby&#39\;s Loving Hands is cutting the ribbon on Oct. 4th at their location at 32 S. Washington St\, Ste #3 in Easton\, with a full reception to follow on Oct. 5th from 6-11pm at the Academy of the Arts at 106 South St. in Easton\, MD.</span><br />\n<br />\n<span style="color: rgb(64\, 64\, 64)\; letter-spacing: 1px\;">Libby&#39\;s Loving Hands was founded in 2020 in memory of the&nbsp\;owner&#39\;s grandmother\, the gracious and kind-hearted Mrs. Libby. Mrs. Libby was a nursing aide and an incredible woman who dedicated her life to caring for the sick\, her community\, and everyone she encountered. Through Libby&#39\;s Loving Hands\, her legacy lives on through their&nbsp\;commitment to providing the very best care for each and every one of our clients.</span><br />\n<span class="wixui-rich-text__text" style="background-image: initial\; background-position: initial\; background-size: initial\; background-repeat: initial\; background-attachment: initial\; background-origin: initial\; background-clip: initial\; border: 0px\; margin: 0px\; outline: 0px\; padding: 0px\; vertical-align: baseline\; letter-spacing: 0em\;">At the core of Libby&#39\;s Loving Hands is the belief that seniors deserve to age gracefully with compassion\, patience\, and respect woven into every aspect of their care.</span></span></span></p>\n\n<p class="font_7 wixui-rich-text__text" style="background-image: initial\; background-position: initial\; background-size: initial\; background-repeat: initial\; background-attachment: initial\; background-origin: initial\; background-clip: initial\; border: 0px\; outline: 0px\; padding: 0px\; vertical-align: baseline\; pointer-events: auto\; font-size: 20px\; line-height: 1.67em\; color: rgb(var(--color_14))\; letter-spacing: 0.02em\; margin-block: 0px\; margin: 0px\;"><span class="wixui-rich-text__text" style="background-image: initial\; background-position: initial\; background-size: initial\; background-repeat: initial\; background-attachment: initial\; background-origin: initial\; background-clip: initial\; border: 0px\; margin: 0px\; outline: 0px\; padding: 0px\; vertical-align: baseline\; letter-spacing: 0em\;">&#8203\;</span></p>\n\n<p class="font_7 wixui-rich-text__text" style="background-image: initial\; background-position: initial\; background-size: initial\; background-repeat: initial\; background-attachment: initial\; background-origin: initial\; background-clip: initial\; border: 0px\; outline: 0px\; padding: 0px\; vertical-align: baseline\; pointer-events: auto\; font-size: 20px\; line-height: 1.67em\; color: rgb(var(--color_14))\; letter-spacing: 0.02em\; margin-block: 0px\; margin: 0px\;">&nbsp\;</p>\n
LOCATION:32 S. Washington St. Ste #3 Easton\, MD
UID:e.3409.7178
SEQUENCE:3
DTSTAMP:20260419T223641Z
URL:https://www.talbotchamber.org/events/details/ribbon-cutting-for-libby-s-loving-hands-7178
END:VEVENT

END:VCALENDAR
