BEGIN:VCALENDAR
VERSION:2.0
PRODID:-//ChamberMaster//Event Calendar 2.0//EN
METHOD:PUBLISH
X-PUBLISHED-TTL:P3D
REFRESH-INTERVAL:P3D
CALSCALE:GREGORIAN
BEGIN:VEVENT
DTSTART:20250129T223000Z
DTEND:20250129T233000Z
X-MICROSOFT-CDO-ALLDAYEVENT:FALSE
SUMMARY:Ribbon Cutting for Easton Music Academy
DESCRIPTION:Please join us for the Easton Music Academy Ribbon Cutting!\n\n\n\nEarning 50+ glowing 5-star reviews and a nomination for National Music School of the year 2024\, families trust Easton Music Academy to deliver excellence.  Easton Music Academy offers exceptional programs for ages 2-102\, with both group classes and private lessons to drive growth and confidence.\n\n\n\nSessions offered include:\n\n	Acoustic\, Electric and Classical Guitar\n	Piano\n	Voice\n	Violin/Viola\n	Drums/Percussion\n	Ukulele\n	Bass\n	More classes to come!\n\nAll instruments can be provided in house.\n\n\n\nThe Rock Band Program offers students an opportunity to collaborate with fellow age-appropriate musicians\, rehearse songs and build their own band's identity while encouraging teamwork\, rhythm\, creativity and stage presence. \n\n\n\n"Create\, Grow and Thrive at Easton Music Academy"  \n\n\n\nLight refreshments will be offered.
X-ALT-DESC;FMTTYPE=text/html:<span style="font-size:14px\;"><strong>Please join us for the <a href="https://eastonmusicacademy.com/">Easton Music Academy</a> Ribbon Cutting!<br />\n<br />\nEarning 50+ glowing 5-star reviews and a nomination for National Music School of the year 2024\, families trust Easton Music Academy to deliver excellence.&nbsp\; Easton Music Academy offers&nbsp\;<span style="color: rgb(51\, 51\, 51)\; font-family: sans-serif\, Arial\, Verdana\, &quot\;Trebuchet MS&quot\;\; background-color: rgb(255\, 255\, 255)\;">exceptional programs for ages 2-102\, with both group classes and private lessons to drive growth and confidence.<br />\n<br />\nSessions offered include:</span></strong></span>\n<ul>\n	<li><span style="font-size:14px\;"><strong><span style="color: rgb(51\, 51\, 51)\; font-family: sans-serif\, Arial\, Verdana\, &quot\;Trebuchet MS&quot\;\; background-color: rgb(255\, 255\, 255)\;">Acoustic\,&nbsp\;<span style="color: rgb(51\, 51\, 51)\; font-family: sans-serif\, Arial\, Verdana\, &quot\;Trebuchet MS&quot\;\; background-color: rgb(255\, 255\, 255)\;">Electric and Classical Guitar</span></span></strong></span></li>\n	<li><span style="font-size:14px\;"><strong><span style="color: rgb(51\, 51\, 51)\; font-family: sans-serif\, Arial\, Verdana\, &quot\;Trebuchet MS&quot\;\; background-color: rgb(255\, 255\, 255)\;"><span style="color: rgb(51\, 51\, 51)\; font-family: sans-serif\, Arial\, Verdana\, &quot\;Trebuchet MS&quot\;\; background-color: rgb(255\, 255\, 255)\;">Piano</span></span></strong></span></li>\n	<li><span style="font-size:14px\;"><strong><span style="color: rgb(51\, 51\, 51)\; font-family: sans-serif\, Arial\, Verdana\, &quot\;Trebuchet MS&quot\;\; background-color: rgb(255\, 255\, 255)\;"><span style="color: rgb(51\, 51\, 51)\; font-family: sans-serif\, Arial\, Verdana\, &quot\;Trebuchet MS&quot\;\; background-color: rgb(255\, 255\, 255)\;">Voice</span></span></strong></span></li>\n	<li><span style="font-size:14px\;"><strong><span style="color: rgb(51\, 51\, 51)\; font-family: sans-serif\, Arial\, Verdana\, &quot\;Trebuchet MS&quot\;\; background-color: rgb(255\, 255\, 255)\;"><span style="color: rgb(51\, 51\, 51)\; font-family: sans-serif\, Arial\, Verdana\, &quot\;Trebuchet MS&quot\;\; background-color: rgb(255\, 255\, 255)\;">Violin/Viola</span></span></strong></span></li>\n	<li><span style="font-size:14px\;"><strong><span style="color: rgb(51\, 51\, 51)\; font-family: sans-serif\, Arial\, Verdana\, &quot\;Trebuchet MS&quot\;\; background-color: rgb(255\, 255\, 255)\;"><span style="color: rgb(51\, 51\, 51)\; font-family: sans-serif\, Arial\, Verdana\, &quot\;Trebuchet MS&quot\;\; background-color: rgb(255\, 255\, 255)\;">Drums/Percussion</span></span></strong></span></li>\n	<li><span style="font-size:14px\;"><strong><span style="color: rgb(51\, 51\, 51)\; font-family: sans-serif\, Arial\, Verdana\, &quot\;Trebuchet MS&quot\;\; background-color: rgb(255\, 255\, 255)\;"><span style="color: rgb(51\, 51\, 51)\; font-family: sans-serif\, Arial\, Verdana\, &quot\;Trebuchet MS&quot\;\; background-color: rgb(255\, 255\, 255)\;">Ukulele</span></span></strong></span></li>\n	<li><span style="font-size:14px\;"><strong><span style="color: rgb(51\, 51\, 51)\; font-family: sans-serif\, Arial\, Verdana\, &quot\;Trebuchet MS&quot\;\; background-color: rgb(255\, 255\, 255)\;"><span style="color: rgb(51\, 51\, 51)\; font-family: sans-serif\, Arial\, Verdana\, &quot\;Trebuchet MS&quot\;\; background-color: rgb(255\, 255\, 255)\;">Bass</span></span></strong></span></li>\n	<li><span style="font-size:14px\;"><strong><span style="color: rgb(51\, 51\, 51)\; font-family: sans-serif\, Arial\, Verdana\, &quot\;Trebuchet MS&quot\;\; background-color: rgb(255\, 255\, 255)\;"><span style="color: rgb(51\, 51\, 51)\; font-family: sans-serif\, Arial\, Verdana\, &quot\;Trebuchet MS&quot\;\; background-color: rgb(255\, 255\, 255)\;">More classes to come!</span></span></strong></span></li>\n</ul>\n<span style="font-size:14px\;"><strong><span style="color: rgb(51\, 51\, 51)\; font-family: sans-serif\, Arial\, Verdana\, &quot\;Trebuchet MS&quot\;\; background-color: rgb(255\, 255\, 255)\;"><span style="color: rgb(51\, 51\, 51)\; font-family: sans-serif\, Arial\, Verdana\, &quot\;Trebuchet MS&quot\;\; background-color: rgb(255\, 255\, 255)\;">All instruments can be provided in house.<br />\n<br />\nThe Rock Band Program offers students an opportunity to collaborate with fellow age-appropriate musicians\, rehearse songs and build their own band&#39\;s identity while encouraging teamwork\, rhythm\, creativity and stage presence.&nbsp\;</span></span><br />\n<br />\n&quot\;Create\, Grow and Thrive at Easton Music Academy&quot\;&nbsp\;&nbsp\;<br />\n<br />\nLight refreshments will be offered.</strong></span><br />\n<br />\n<br />\n<br />\n<br />\n<br />\n<br />\n<br />\n&nbsp\;
LOCATION:29509 Canvasback Drive Suite 101 Easton\, MD
UID:e.3409.7516
SEQUENCE:3
DTSTAMP:20260421T135134Z
URL:https://www.talbotchamber.org/events/details/ribbon-cutting-for-easton-music-academy-7516
END:VEVENT

END:VCALENDAR
