BEGIN:VCALENDAR
VERSION:2.0
PRODID:-//ChamberMaster//Event Calendar 2.0//EN
METHOD:PUBLISH
X-PUBLISHED-TTL:P3D
REFRESH-INTERVAL:P3D
CALSCALE:GREGORIAN
BEGIN:VEVENT
DTSTART:20250805T123000Z
DTEND:20250805T133000Z
X-MICROSOFT-CDO-ALLDAYEVENT:FALSE
SUMMARY:Relocation for August - NetworkING Leads Group Meeting
DESCRIPTION:You're invited!\n\nThe next Intentional Networking Group (ING) meeting will be on the road at Talbot Interfaith Shelter\, Tuesday\, August 5th at 8:30 am.\n\nCome connect with fellow professionals\, grow your network\, and tour the Talbot Interfaith Shelter to learn more about the important work they're doing to support individuals and families in our community. It's a meaningful way to start your week with purpose and positivity!\n\n\n\nTour Details:\n\n  Meet at 107 Goldsborough Street\, Easton\n\n  Time: 8:30am-9:00am \n\n  We'll guide you through our shelters and share how our comprehensive program works to transform lives.\n\n\n\nWhether you're curious about our mission\, interested in getting involved\, or simply want to see the impact of local support firsthand\, we'd be honored to have you with us.\n\nPlease feel free to bring a friend or colleague along we love meeting new community members!\n\n\n\nPlease RSVP so we know how many to expect. We look forward to seeing you there!
X-ALT-DESC;FMTTYPE=text/html:<p><span style="font-size:16px\;"><b data-olk-copy-source="MessageBody">You&#39\;re invited!</b><br />\nThe next&nbsp\;<b>Intentional Networking Group (ING)</b>&nbsp\;meeting will be on the road at <strong>Talbot Interfaith Shelter\, Tuesday\, August 5th at 8:30 am.</strong></span></p>\n\n<div style="border: 0px\; font-variant-numeric: inherit\; font-variant-east-asian: inherit\; font-variant-alternates: inherit\; font-variant-position: inherit\; font-variant-emoji: inherit\; font-stretch: inherit\; font-size: 11pt\; line-height: inherit\; font-family: Aptos\, Aptos_EmbeddedFont\, Aptos_MSFontService\, Calibri\, Helvetica\, sans-serif\; font-optical-sizing: inherit\; font-size-adjust: inherit\; font-kerning: inherit\; font-feature-settings: inherit\; font-variation-settings: inherit\; margin: 1em 0px\; padding: 0px\; vertical-align: baseline\; background-color: rgb(255\, 255\, 255)\;"><span style="font-size:16px\;">Come connect with fellow professionals\, grow your network\, and tour the Talbot Interfaith Shelter to learn more about the important work they&rsquo\;re doing to support individuals and families in our community. It&rsquo\;s a meaningful way to start your week with purpose and positivity!<br />\n<br />\n<strong><span style="font-family:aptos\,sans-serif\;">Tour Details:</span></strong><br />\n<span style="font-family:segoe ui emoji\,sans-serif\;">&#128205\;</span> <em><span style="font-family:aptos\,sans-serif\;">Meet at 107 Goldsborough Street\, Easton</span></em><br />\n<span style="font-family:segoe ui emoji\,sans-serif\;">&#128345\;</span> <em><span style="font-family:aptos\,sans-serif\;">Time: 8:30am-9:00am&nbsp\;</span></em><br />\n<span style="font-family:segoe ui emoji\,sans-serif\;">&#128203\;</span> <em><span style="font-family:aptos\,sans-serif\;">We&#39\;ll guide you through our shelters and share how our comprehensive program works to transform lives.</span></em><br />\n<br />\nWhether you&rsquo\;re curious about our mission\, interested in getting involved\, or simply want to see the impact of local support firsthand\, we&rsquo\;d be honored to have you with us.<br />\nPlease feel free to bring a friend or colleague along&mdash\;we love meeting new community members!<br />\n<br />\nPlease RSVP so we know how many to expect. We look forward to seeing you there!</span></div>\n
LOCATION:Talbot Interfaith Shelter 107 Goldsborough Street Easton\, MD
UID:e.3409.7646
SEQUENCE:3
DTSTAMP:20260421T004602Z
URL:https://www.talbotchamber.org/events/details/relocation-for-august-networking-leads-group-meeting-7646
END:VEVENT

END:VCALENDAR
