BEGIN:VCALENDAR
VERSION:2.0
PRODID:-//ChamberMaster//Event Calendar 2.0//EN
METHOD:PUBLISH
X-PUBLISHED-TTL:P3D
REFRESH-INTERVAL:P3D
CALSCALE:GREGORIAN
BEGIN:VEVENT
DTSTART;VALUE=DATE:20260216
DTEND;VALUE=DATE:20260217
TRANSP:TRANSPARENT
X-MICROSOFT-CDO-ALLDAYEVENT:TRUE
SUMMARY:President's Day: Chamber Offices Closed
DESCRIPTION:Notice: Office Closure for President's Day\n\nThe Talbot County Chamber offices will be closed on the 3rd Monday in February in observance of President?s Day. We will resume normal business hours Tuesday..\n\nIf you wish to use any of the conference rooms or coworking spaces\, please contact us at info@talbotchamber.org to make arrangements.
X-ALT-DESC;FMTTYPE=text/html:<p data-end="48" data-start="0"><strong data-end="46" data-start="0">Notice: Office Closure for President&#39\;s Day</strong></p>\n\n<p data-end="232" data-start="50">The Talbot County Chamber offices will be closed on the <strong>3rd Monday in February</strong>&nbsp\;in observance of <strong data-end="163" data-start="144">President?s Day</strong>. We will resume normal business hours <strong data-end="229" data-start="205">Tuesday.</strong>.</p>\n\n<p data-end="373" data-start="234">If you wish to use any of the conference rooms or coworking spaces\, please contact us at <strong data-end="349" data-start="323"><a data-end="347" data-start="325" rel="noopener">info@talbotchamber.org</a></strong> to make arrangements.</p>\n
LOCATION:
UID:e.3409.7783
SEQUENCE:3
DTSTAMP:20260420T154411Z
URL:https://www.talbotchamber.org/events/details/president-s-day-chamber-offices-closed-7783
END:VEVENT

END:VCALENDAR
