BEGIN:VCALENDAR
VERSION:2.0
PRODID:-//ChamberMaster//Event Calendar 2.0//EN
METHOD:PUBLISH
X-PUBLISHED-TTL:P3D
REFRESH-INTERVAL:P3D
CALSCALE:GREGORIAN
BEGIN:VEVENT
DTSTART:20250405T143000Z
DTEND:20250405T160000Z
X-MICROSOFT-CDO-ALLDAYEVENT:FALSE
SUMMARY:OPEN DANCE AUDITIONS FOR FALL PERFORMANCE
DESCRIPTION:As a key part of our "rebuilding" phase\, Dreamers will be Continuum's first full-length public\n\nperformance since prior to Covid. With the ultimate goal of sharing dance with our community and\n\nhaving fun with one another\, Continuum prides itself on maintaining a relaxed rehearsal atmosphere\n\nwhile still producing quality performances.\n\n\n\nAudition Details:\n\nWhen: Saturday\, April 5\, 10:30am-12noon OR Wednesday\, April 9\, 5:30-7pm.\n\nWhere: Pulse & Beats\, 8626 Brooks Drive\, Suite 303 Easton\, MD.\n\nWho: Ages 16+ with dance experience\; all levels welcome\, but some experience required.\n\n? What: Dancers will be led through warm up\, short combinations\, and will be expected to learn\n\nlonger segments of choreography\; ballet\, modern\, and jazz influences can be expected.\n\nWhy: To join Continuum Dance's company of dancers in our September 27\, 2025 public\n\nperformance of Dreamers.\n\n$10 audition fee per dancer.\n\nDress code: Anything comfortable for you - athletic wear is great. Bare feet\, dance socks\, or\n\n"foot undeez" suggested\, but any footwear you're comfortable with is fine.\n\nCommitment:\n\nPerformance: Saturday\, September 27\, 2025 at Oxford Community Center. 10:30am dress\n\nrehearsal\; performances at 2pm & 5pm.\n\nRehearsals: Mondays\, 6:30-8pm at Pulse & Beats - starting April 21 (No rehearsal on federal\n\nholidays)\n\n\n\nPlease email us at continuumdanceinfo@gmail.com if additional information is needed
X-ALT-DESC;FMTTYPE=text/html:As a key part of our &ldquo\;rebuilding&rdquo\; phase\, Dreamers will be Continuum&rsquo\;s first full-length public<br />\nperformance since prior to Covid. With the ultimate goal of sharing dance with our community and<br />\nhaving fun with one another\, Continuum prides itself on maintaining a relaxed rehearsal atmosphere<br />\nwhile still producing quality performances.<br />\n<br />\nAudition Details:<br />\nWhen: Saturday\, April 5\, 10:30am-12noon OR Wednesday\, April 9\, 5:30-7pm.<br />\nWhere: Pulse &amp\; Beats\, 8626 Brooks Drive\, Suite 303 Easton\, MD.<br />\nWho: Ages 16+ with dance experience\; all levels welcome\, but some experience required.<br />\n? What: Dancers will be led through warm up\, short combinations\, and will be expected to learn<br />\nlonger segments of choreography\; ballet\, modern\, and jazz influences can be expected.<br />\nWhy: To join Continuum Dance&rsquo\;s company of dancers in our September 27\, 2025 public<br />\nperformance of Dreamers.<br />\n$10 audition fee per dancer.<br />\nDress code: Anything comfortable for you - athletic wear is great. Bare feet\, dance socks\, or<br />\n&ldquo\;foot undeez&rdquo\; suggested\, but any footwear you&rsquo\;re comfortable with is fine.<br />\nCommitment:<br />\nPerformance: Saturday\, September 27\, 2025 at Oxford Community Center. 10:30am dress<br />\nrehearsal\; performances at 2pm &amp\; 5pm.<br />\nRehearsals: Mondays\, 6:30-8pm at Pulse &amp\; Beats - starting April 21 (No rehearsal on federal<br />\nholidays)<br />\n<br />\nPlease email us at continuumdanceinfo@gmail.com if additional information is needed
LOCATION:Pulse and Beats 8626 Brooks Drive Easton\, MD 21601
UID:e.3409.7953
SEQUENCE:3
DTSTAMP:20260421T090319Z
URL:https://www.talbotchamber.org/events/details/open-dance-autions-for-fall-performance-7953
END:VEVENT

END:VCALENDAR
