BEGIN:VCALENDAR
VERSION:2.0
PRODID:-//ChamberMaster//Event Calendar 2.0//EN
METHOD:PUBLISH
X-PUBLISHED-TTL:P3D
REFRESH-INTERVAL:P3D
CALSCALE:GREGORIAN
BEGIN:VEVENT
DTSTART:20250906T143000Z
DTEND:20250906T160000Z
X-MICROSOFT-CDO-ALLDAYEVENT:FALSE
SUMMARY:OPEN CALL FOR DANCERS: Join our Community Piece in our Fall Performance\, Dreamers
DESCRIPTION:As a key part of our "rebuilding" phase\, Dreamers will be Continuum Dance's first full-length public performance since 2019. With the ultimate goal of sharing dance with our community and having fun with one another\, we are offering an opportunity for any community member to join us on stage as part of Dreamers. Regardless of your experience\, if you want to dance on stage\, we want you to do just that! Dance is for everybody!\n\n\n\nWhat We'll Ask of You:\n\n\n	\n	Join us for three (3) rehearsals: Saturdays\, September 6\, 13 & 20 from 10:30am-12noon at Pulse & Beats (Brooks Drive\, Easton)\n	\n	\n	$30 rehearsal fee payable at the first rehearsal. This fee will cover studio costs and instructor time for all three Saturdays. Scholarships are available - reach out to continuumdanceinfo@gmail.com with your request. \n	\n	\n	Purchase a Continuum Dance shirt of your choice from our merch store. \n	\n	\n	Perform with us: Saturday\, September 27 at Oxford Community Center\; 10am dress rehearsals\, 2pm & 6pm shows.\n	\n\n\nReach out to us at continuumdanceinfo@gmail.com with any questions.\n\nSign up & find more details at www.continuumdancecompany.org\n\nWe look forward to dancing with you!
X-ALT-DESC;FMTTYPE=text/html:<p><span style="font-size:12px"><span style="font-family:arial\,helvetica\,sans-serif"><span style="background-color:transparent\; color:rgb(0\, 0\, 0)">As a key part of our &ldquo\;rebuilding&rdquo\; phase\, </span><em>Dreamers</em><span style="background-color:transparent\; color:rgb(0\, 0\, 0)"> will be Continuum Dance&rsquo\;s first full-length public performance since 2019. With the ultimate goal of sharing dance with our community and having fun with one another</span><span style="background-color:transparent\; color:rgb(0\, 0\, 0)">\, we are offering an opportunity for any community member to join us on stage as part of </span><em>Dreamers</em><span style="background-color:transparent\; color:rgb(0\, 0\, 0)">. Regardless of your experience\, if you want to dance on stage\, we want you to do just that! Dance is for everybody!</span><br />\n<br />\n<strong>What We&#39\;ll Ask of You:</strong></span></span></p>\n\n<ul>\n	<li>\n	<p><span style="font-size:12px"><span style="font-family:arial\,helvetica\,sans-serif">Join us for three (3) rehearsals: Saturdays\, September 6\, 13 &amp\; 20 from 10:30am-12noon at Pulse &amp\; Beats (Brooks Drive\, Easton)</span></span></p>\n	</li>\n	<li>\n	<p><span style="font-size:12px"><span style="font-family:arial\,helvetica\,sans-serif"><span style="background-color:transparent">$30 rehearsal fee payable at the first rehearsal. This fee will cover studio costs and instructor time for all three Saturdays. Scholarships are available - reach out to&nbsp\;</span><a href="mailto:continuumdanceinfo@gmail.com" style="text-decoration-line: none\;">continuumdanceinfo@gmail.com</a><span style="background-color:transparent">&nbsp\;with your request.&nbsp\;</span></span></span></p>\n	</li>\n	<li>\n	<p><span style="font-size:12px"><span style="font-family:arial\,helvetica\,sans-serif"><span style="background-color:transparent">Purchase a Continuum Dance shirt of your choice from our <a href="https://stores.inksoft.com/continuum_dance/shop/home">merch store</a></span>.&nbsp\;</span></span></p>\n	</li>\n	<li>\n	<p><span style="font-size:12px"><span style="font-family:arial\,helvetica\,sans-serif">Perform with us: Saturday\, September 27 at Oxford Community Center\; 10am dress rehearsals\, 2pm &amp\; 6pm shows.</span></span></p>\n	</li>\n</ul>\n\n<p><span style="font-size:12px"><span style="font-family:arial\,helvetica\,sans-serif">Reach out to us at <a href="mailto:continuumdanceinfo@gmail.com">continuumdanceinfo@gmail.com</a> with any questions.<br />\nSign up &amp\; find more details at <a href="http://www.continuumdancecompany.org">www.continuumdancecompany.org</a><br />\n<span style="background-color:transparent\; color:rgb(0\, 0\, 0)">We look forward to dancing with you!</span></span></span></p>\n
LOCATION:Rehearsals: Pulse & Beats\, 8626 Brooks Drive\, Suite 303 Easton\, MD Performance: Oxford Community Center\, 200 Oxford Road Oxford\, MD
UID:e.3409.8096
SEQUENCE:3
DTSTAMP:20260420T232044Z
URL:https://www.talbotchamber.org/events/details/open-call-for-dancers-join-our-community-piece-in-our-fall-performance-dreamers-8096
END:VEVENT

END:VCALENDAR
