BEGIN:VCALENDAR
VERSION:2.0
PRODID:-//ChamberMaster//Event Calendar 2.0//EN
METHOD:PUBLISH
X-PUBLISHED-TTL:P3D
REFRESH-INTERVAL:P3D
CALSCALE:GREGORIAN
BEGIN:VEVENT
DTSTART:20250517T150000Z
DTEND:20250517T180000Z
X-MICROSOFT-CDO-ALLDAYEVENT:FALSE
SUMMARY:New Model Home Grand Opening - Lakeside at Trappe
DESCRIPTION:NEW MODEL HOME GRAND OPENING!\n\n\n\nJoin us to sip\, savor\, and see what life at Lakeside at Trappe is all about.\n\n	Savor complimentary light bites and beverages\n	Tour beautifully decorated model homes and quick move-in homes\n	Discover the community's exciting amenities and enjoy fun activities at our clubhouse\n	Learn about special limited-time incentives\n\nAs part of our Taste of Home event\, Brookfield Residential's new Torrington model and Lennar's new Alan model will make their debut.  Be among the first to tour these stunning decorated model homes!
X-ALT-DESC;FMTTYPE=text/html:<span style="font-size:16px\;"><strong>NEW MODEL HOME GRAND OPENING!</strong></span><br />\n<br />\n<span style="font-size:14px\;"><span style="font-size:16px\;">Join us to sip\, savor\, and see what life at Lakeside at Trappe is all about.</span></span>\n<ul>\n	<li>Savor complimentary light bites and beverages</li>\n	<li>Tour beautifully decorated model homes and quick move-in homes</li>\n	<li>Discover the community&#39\;s exciting amenities and enjoy fun activities at our clubhouse</li>\n	<li>Learn about special limited-time incentives</li>\n</ul>\n<span style="font-size:14px\;">As part of our Taste of Home event\, Brookfield Residential&#39\;s new Torrington model and Lennar&#39\;s new Alan model will make their debut.&nbsp\; Be among the first to tour these stunning decorated model homes!</span><br />\n&nbsp\;
LOCATION:LENNAR - 1258 Lake Michigan Drive\, Trappe\, MD BROOKFIELD - 1254 Lake Michigan Drive\, Trappe\, MD
UID:e.3409.7988
SEQUENCE:3
DTSTAMP:20260421T064941Z
URL:https://www.talbotchamber.org/events/details/new-model-home-grand-opening-lakeside-at-trappe-7988
END:VEVENT

END:VCALENDAR
