BEGIN:VCALENDAR
VERSION:2.0
PRODID:-//ChamberMaster//Event Calendar 2.0//EN
METHOD:PUBLISH
X-PUBLISHED-TTL:P3D
REFRESH-INTERVAL:P3D
CALSCALE:GREGORIAN
BEGIN:VEVENT
DTSTART:20250819T203000Z
DTEND:20250819T223000Z
X-MICROSOFT-CDO-ALLDAYEVENT:FALSE
SUMMARY:Networking Night at the Museum
DESCRIPTION:Networking Night at the Museum\n\nTuesday\, August 19 | 4:30 6:30 PM\n\nChesapeake Bay Maritime Museum | St. Michaels\n\nJoin us at the Maritime Museum Welcome Center for a special edition of Networking Night at the Museum at one of the most scenic spots on the Bay! Mingle with fellow professionals\, make new connections\, and explore the Chesapeake Bay Maritime Museum after hours while viewing the Sailing to Freedom Exhibition and Shipyard. Enjoy light refreshments\, waterfront views\, and a relaxed atmosphere where business meets history!\n\nWhether you're looking to expand your network or just unwind in a beautiful setting\, this is the place to be! \n\n\n\nWine & Beer sponsored by St. Michaels Market
X-ALT-DESC;FMTTYPE=text/html:<p data-end="212" data-start="87"><span style="font-size:18px\;"><strong data-end="121" data-start="87">Networking Night at the Museum</strong><br data-end="124" data-start="121" />\n<strong data-end="160" data-start="124">Tuesday\, August 19 | 4:30&ndash\;6:30 PM</strong><br data-end="163" data-start="160" />\n<strong data-end="212" data-start="163">Chesapeake Bay Maritime Museum | St. Michaels</strong></span></p>\n\n<p data-end="540" data-start="214"><span style="font-size:18px\;">Join us at the Maritime Museum Welcome Center for a special edition of <em data-end="279" data-start="247">Networking Night at the Museum</em> at one of the most scenic spots on the Bay! Mingle with fellow professionals\, make new connections\, and explore the Chesapeake Bay Maritime Museum after hours while viewing the Sailing to Freedom Exhibition and&nbsp\;Shipyard. Enjoy light refreshments\, waterfront views\, and a relaxed atmosphere where business meets history!</span></p>\n\n<p data-end="651" data-start="542"><span style="font-size:18px\;">Whether you&#39\;re looking to expand your network or just unwind in a beautiful setting\, this is the place to be!&nbsp\;<br />\n<br />\nWine &amp\; Beer sponsored by St. Michaels Market</span></p>\n
LOCATION:Chesapeake Bay Maritime Museum Welcome Center 213 N. Talbot Street St. Michaels\, MD
UID:e.3409.8091
SEQUENCE:3
DTSTAMP:20260421T020759Z
URL:https://www.talbotchamber.org/events/details/networking-night-at-the-museum-08-19-2025-8091
END:VEVENT

END:VCALENDAR
