BEGIN:VCALENDAR
VERSION:2.0
PRODID:-//ChamberMaster//Event Calendar 2.0//EN
METHOD:PUBLISH
X-PUBLISHED-TTL:P3D
REFRESH-INTERVAL:P3D
CALSCALE:GREGORIAN
BEGIN:VEVENT
DTSTART:20250902T120000Z
DTEND:20250902T130000Z
X-MICROSOFT-CDO-ALLDAYEVENT:FALSE
SUMMARY:NetworkING Leads Group Meeting
DESCRIPTION:Networking with a Purpose!\n\nLooking to grow your business and strengthen your connections within the Talbot Chamber community? The Intentional Networking Group (ING) is your exclusive opportunity to connect\, collaborate\, and share leads in a supportive\, business-focused environment.\n\nAbout ING:\n\nThe ING Leads Group fosters meaningful connections among Talbot Chamber member businesses. Our mission is to facilitate the exchange of leads whether sales opportunities\, referrals\, products\, or innovative ideas among non-competing member businesses\, helping everyone succeed.\n\nWho Should Attend?\n\n\n	\n	New members\n	\n	\n	Small business owners\n	\n	\n	Sales professionals\n	\n	\n	Business developers\n	\n\n\nIf you're looking for a welcoming space to expand your network and generate valuable opportunities\, ING is for you.\n\nAll Talbot Chamber members in good standing are welcome!\n\nDon't miss this chance to connect with like-minded professionals\, plant seeds\, and watch your business grow.\n\n  Please RSVP so we know how many to expect. We look forward to seeing you there!
X-ALT-DESC;FMTTYPE=text/html:<p><span style="font-size:16px\;"><strong>Networking with a Purpose!</strong></span></p>\n\n<p data-end="699" data-start="438"><span style="font-size:16px\;">Looking to grow your business and strengthen your connections within the Talbot Chamber community? The <strong data-end="579" data-start="541">Intentional Networking Group (ING)</strong> is your exclusive opportunity to connect\, collaborate\, and share leads in a supportive\, business-focused environment.</span></p>\n\n<p data-end="998" data-start="701"><span style="font-size:16px\;"><strong data-end="715" data-start="701">About ING:</strong><br data-end="718" data-start="715" />\nThe ING Leads Group fosters meaningful connections among Talbot Chamber member businesses. Our mission is to facilitate the exchange of leads&mdash\;whether sales opportunities\, referrals\, products\, or innovative ideas&mdash\;among <em data-end="951" data-start="936">non-competing</em> member businesses\, helping everyone succeed.</span></p>\n\n<p data-end="1024" data-start="1000"><span style="font-size:16px\;"><strong data-end="1022" data-start="1000">Who Should Attend?</strong></span></p>\n\n<ul data-end="1114" data-start="1025">\n	<li data-end="1040" data-start="1025">\n	<p data-end="1040" data-start="1027"><span style="font-size:16px\;">New members</span></p>\n	</li>\n	<li data-end="1066" data-start="1041">\n	<p data-end="1066" data-start="1043"><span style="font-size:16px\;">Small business owners</span></p>\n	</li>\n	<li data-end="1090" data-start="1067">\n	<p data-end="1090" data-start="1069"><span style="font-size:16px\;">Sales professionals</span></p>\n	</li>\n	<li data-end="1114" data-start="1091">\n	<p data-end="1114" data-start="1093"><span style="font-size:16px\;">Business developers</span></p>\n	</li>\n</ul>\n\n<p data-end="1233" data-start="1116"><span style="font-size:16px\;">If you&rsquo\;re looking for a welcoming space to expand your network and generate valuable opportunities\, ING is for you.</span></p>\n\n<p data-end="1408" data-start="1235"><span style="font-size:16px\;"><strong data-end="1295" data-start="1235">All Talbot Chamber members in good standing are welcome!</strong><br data-end="1298" data-start="1295" />\nDon&rsquo\;t miss this chance to connect with like-minded professionals\, plant seeds\, and watch your business grow.</span></p>\n\n<p data-end="1498" data-start="1410"><span style="font-size:16px\;">&#128073\; <strong data-end="1459" data-start="1413">Please RSVP so we know how many to expect.</strong> We look forward to seeing you there!</span></p>\n
LOCATION:Talbot Chamber of Commerce 101 Marlboro Avenue Ste #53 Easton\, MD
UID:e.3409.7647
SEQUENCE:3
DTSTAMP:20260420T232010Z
URL:https://www.talbotchamber.org/events/details/networking-leads-group-meeting-09-02-2025-7647
END:VEVENT

END:VCALENDAR
