BEGIN:VCALENDAR
VERSION:2.0
PRODID:-//ChamberMaster//Event Calendar 2.0//EN
METHOD:PUBLISH
X-PUBLISHED-TTL:P3D
REFRESH-INTERVAL:P3D
CALSCALE:GREGORIAN
BEGIN:VEVENT
DTSTART:20250204T130000Z
DTEND:20250204T140000Z
X-MICROSOFT-CDO-ALLDAYEVENT:FALSE
SUMMARY:NetworkING Leads Group Meeting
DESCRIPTION:Kickstart Your Month with MeanINGful Connections!\n\nJoin us for the February NetworkING meeting as we explore partnership opportunities for Talbot Public Schools' College & Career Prep Days.\n\n \n\nGuest presenters Danielle Haley and Cara Breeding\, Carer Counselors for Easton and St. Michaels High Schools\, will discuss how they're helping students build career readiness skills like resume writing and interview techniques - and how you and your business can help!\n\nING is the Talbot Chamber's Intentional Networking Group.\n\nNetwork with local professionals while making a difference. RSVP today!
X-ALT-DESC;FMTTYPE=text/html:<p style="margin: 0px\; padding: 0px\; color: rgb(9\, 61\, 83)\; font-family: Tahoma\, Geneva\, sans-serif\; font-size: 11px\; white-space-collapse: preserve\;"><span style="font-size:14px\;"><span style="font-family:tahoma\;"><span style="font-weight: bold\;">Kickstart Your Month with MeanINGful Connections!</span></span></span></p>\n\n<p style="margin: 0px\; padding: 0px\; color: rgb(9\, 61\, 83)\; font-family: Tahoma\, Geneva\, sans-serif\; font-size: 11px\; white-space-collapse: preserve\;"><span style="font-size:14px\;"><span style="font-family:tahoma\;">Join us for the February NetworkING meeting as we explore partnership opportunities for Talbot Public Schools&#39\; College &amp\; Career Prep Days.</span></span></p>\n\n<p style="margin: 0px\; padding: 0px\; color: rgb(9\, 61\, 83)\; font-family: Tahoma\, Geneva\, sans-serif\; font-size: 11px\; white-space-collapse: preserve\;">&nbsp\;</p>\n\n<p style="margin: 0px\; padding: 0px\; color: rgb(9\, 61\, 83)\; font-family: Tahoma\, Geneva\, sans-serif\; font-size: 11px\; white-space-collapse: preserve\;"><span style="font-size:14px\;"><span style="font-family:tahoma\;">Guest presenters Danielle Haley and Cara Breeding\, Carer Counselors for Easton and St. Michaels High Schools\, will discuss how they&#39\;re helping students build career readiness skills like resume writing and interview techniques - and how you and your business can help!<br />\nING is the Talbot Chamber&#39\;s Intentional Networking Group.</span></span></p>\n\n<p style="margin: 0px\; padding: 0px\; color: rgb(9\, 61\, 83)\; font-family: Tahoma\, Geneva\, sans-serif\; font-size: 11px\; white-space-collapse: preserve\;"><span style="font-size:14px\;"><span style="font-family:tahoma\;">Network with local professionals while making a difference. RSVP today!</span></span></p>\n
LOCATION:Talbot Chamber of Commerce 101 Marlboro Avenue Ste #53 Easton\, MD
UID:e.3409.3390
SEQUENCE:3
DTSTAMP:20260421T112105Z
URL:https://www.talbotchamber.org/events/details/networking-leads-group-meeting-02-04-2025-3390
END:VEVENT

END:VCALENDAR
