BEGIN:VCALENDAR
VERSION:2.0
PRODID:-//ChamberMaster//Event Calendar 2.0//EN
METHOD:PUBLISH
X-PUBLISHED-TTL:P3D
REFRESH-INTERVAL:P3D
CALSCALE:GREGORIAN
BEGIN:VEVENT
DTSTART;VALUE=DATE:20251110
DTEND;VALUE=DATE:20251201
TRANSP:TRANSPARENT
X-MICROSOFT-CDO-ALLDAYEVENT:TRUE
SUMMARY:Nelson Coleman - Add a pearl. Mark a memory.
DESCRIPTION:Add a pearl.  Mark a memory.  Building her story\, one pearl at a time.\n\n\n\n20% off\n\nPRINCESSE CULTURED PEARLS - Legacy Collection\n\n\n\nAll November - NelsonColeman.com\n\n410-822-2279
X-ALT-DESC;FMTTYPE=text/html:<span style="font-size:16px\;">Add a pearl.&nbsp\; Mark a memory.&nbsp\;<em> Building her story\, one pearl at a time.</em><br />\n<br />\n20% off<br />\nPRINCESSE CULTURED PEARLS - Legacy Collection<br />\n<br />\nAll November - NelsonColeman.com</span><br />\n410-822-2279
LOCATION:22 North Washington Street Easton\, MD
UID:e.3409.8151
SEQUENCE:3
DTSTAMP:20260420T201115Z
URL:https://www.talbotchamber.org/events/details/nelson-coleman-add-a-pearl-mark-a-memory-8151
END:VEVENT

END:VCALENDAR
