BEGIN:VCALENDAR
VERSION:2.0
PRODID:-//ChamberMaster//Event Calendar 2.0//EN
METHOD:PUBLISH
X-PUBLISHED-TTL:P3D
REFRESH-INTERVAL:P3D
CALSCALE:GREGORIAN
BEGIN:VEVENT
DTSTART;VALUE=DATE:20250110
DTEND;VALUE=DATE:20250111
TRANSP:TRANSPARENT
X-MICROSOFT-CDO-ALLDAYEVENT:TRUE
SUMMARY:Murder Mystery Dinner Party - Queenstown Harbor
DESCRIPTION:Whodunnit presents Murder at Queenstown Harbor Golf Course\n\nJoin Queenstown Harbor as we welcome a historical significant performer to share local folklore and historic tales of Queenstown\, MD from the settlement of Lord Baltimore to the involvement of the Audobon Society history. The only problem is that when dinner is served and the entertainment is to begin\, the entertainer is no where to be found - because he's dead. Worse still\, it is clear the act was committed by a guest.\n\nWhat?! Oh heavens!\n\nIt's true.\n\nTo complicate matters\, the authorities have been delayed meaning\, guests will be asked to search for clues\, interrogate suspects and solve whodunnit on their own.\n\n \n\n6:00pm - doors open\, cocktail hour\n\n7:00pm - dinner and mystery begins\n\nCash bar\n\n \n\nGuests are encouraged to dress in elevated casual attire.\n\n \n\nThis is not a play where guests watch actors and actresses\, this is a game where all dinner guests play as a suspect accused of the crime or a detective solving whodunnit. This interactive\, engaging and memorable evening will be one you don't want to forget. Guests should come with their phones charged up\, ready to get some fun photos including "selfies with the dead guy". Bwahahahaha.\n\n \nRegister here:\n\nQueenstown Harbor Murder Mystery Dinner Party Tickets\, Fri\, Jan 10\, 2025 at 6:00 PM | Eventbrite
X-ALT-DESC;FMTTYPE=text/html:<p style="margin: 0px\; padding: 0px\; box-sizing: border-box\; font-size: 16px\; line-height: 1.5rem\; color: rgb(111\, 114\, 135)\; font-family: &quot\;Neue Plak&quot\;\, -apple-system\, BlinkMacSystemFont\, Roboto\, &quot\;Helvetica Neue&quot\;\, Helvetica\, Tahoma\, Arial\, sans-serif\; background-color: rgb(255\, 255\, 255)\;"><span style="font-weight: 700\; box-sizing: border-box\; padding-top: 0px\;">Whodunnit presents Murder at Queenstown Harbor Golf Course</span></p>\n\n<p style="margin: 0px\; padding: 10px 0px 0px\; box-sizing: border-box\; font-size: 16px\; line-height: 1.5rem\; color: rgb(111\, 114\, 135)\; font-family: &quot\;Neue Plak&quot\;\, -apple-system\, BlinkMacSystemFont\, Roboto\, &quot\;Helvetica Neue&quot\;\, Helvetica\, Tahoma\, Arial\, sans-serif\; background-color: rgb(255\, 255\, 255)\;">Join Queenstown Harbor as we welcome a historical significant performer to share local folklore and historic tales of Queenstown\, MD from the settlement of Lord Baltimore to the involvement of the Audobon Society history. The only problem is that when dinner is served and the entertainment is to begin\, the entertainer is no where to be found - because he&#39\;s dead. Worse still\, it is clear the act was committed by a guest.</p>\n\n<p style="margin: 0px\; padding: 10px 0px 0px\; box-sizing: border-box\; font-size: 16px\; line-height: 1.5rem\; color: rgb(111\, 114\, 135)\; font-family: &quot\;Neue Plak&quot\;\, -apple-system\, BlinkMacSystemFont\, Roboto\, &quot\;Helvetica Neue&quot\;\, Helvetica\, Tahoma\, Arial\, sans-serif\; background-color: rgb(255\, 255\, 255)\;">What?! Oh heavens!</p>\n\n<p style="margin: 0px\; padding: 10px 0px 0px\; box-sizing: border-box\; font-size: 16px\; line-height: 1.5rem\; color: rgb(111\, 114\, 135)\; font-family: &quot\;Neue Plak&quot\;\, -apple-system\, BlinkMacSystemFont\, Roboto\, &quot\;Helvetica Neue&quot\;\, Helvetica\, Tahoma\, Arial\, sans-serif\; background-color: rgb(255\, 255\, 255)\;">It&#39\;s true.</p>\n\n<p style="margin: 0px\; padding: 10px 0px 0px\; box-sizing: border-box\; font-size: 16px\; line-height: 1.5rem\; color: rgb(111\, 114\, 135)\; font-family: &quot\;Neue Plak&quot\;\, -apple-system\, BlinkMacSystemFont\, Roboto\, &quot\;Helvetica Neue&quot\;\, Helvetica\, Tahoma\, Arial\, sans-serif\; background-color: rgb(255\, 255\, 255)\;">To complicate matters\, the authorities have been delayed meaning\, guests will be asked to search for clues\, interrogate suspects and solve whodunnit on their own.</p>\n\n<p style="margin: 0px\; padding: 10px 0px 0px\; box-sizing: border-box\; font-size: 16px\; line-height: 1.5rem\; color: rgb(111\, 114\, 135)\; font-family: &quot\;Neue Plak&quot\;\, -apple-system\, BlinkMacSystemFont\, Roboto\, &quot\;Helvetica Neue&quot\;\, Helvetica\, Tahoma\, Arial\, sans-serif\; background-color: rgb(255\, 255\, 255)\;">&nbsp\;</p>\n\n<p style="margin: 0px\; padding: 10px 0px 0px\; box-sizing: border-box\; font-size: 16px\; line-height: 1.5rem\; color: rgb(111\, 114\, 135)\; font-family: &quot\;Neue Plak&quot\;\, -apple-system\, BlinkMacSystemFont\, Roboto\, &quot\;Helvetica Neue&quot\;\, Helvetica\, Tahoma\, Arial\, sans-serif\; background-color: rgb(255\, 255\, 255)\;"><span style="font-weight: 700\; box-sizing: border-box\; padding-top: 0px\;">6:00pm&nbsp\;</span>- doors open\, cocktail hour</p>\n\n<p style="margin: 0px\; padding: 10px 0px 0px\; box-sizing: border-box\; font-size: 16px\; line-height: 1.5rem\; color: rgb(111\, 114\, 135)\; font-family: &quot\;Neue Plak&quot\;\, -apple-system\, BlinkMacSystemFont\, Roboto\, &quot\;Helvetica Neue&quot\;\, Helvetica\, Tahoma\, Arial\, sans-serif\; background-color: rgb(255\, 255\, 255)\;"><span style="font-weight: 700\; box-sizing: border-box\; padding-top: 0px\;">7:00pm</span>&nbsp\;- dinner and mystery begins</p>\n\n<p style="margin: 0px\; padding: 10px 0px 0px\; box-sizing: border-box\; font-size: 16px\; line-height: 1.5rem\; color: rgb(111\, 114\, 135)\; font-family: &quot\;Neue Plak&quot\;\, -apple-system\, BlinkMacSystemFont\, Roboto\, &quot\;Helvetica Neue&quot\;\, Helvetica\, Tahoma\, Arial\, sans-serif\; background-color: rgb(255\, 255\, 255)\;">Cash bar</p>\n\n<p style="margin: 0px\; padding: 10px 0px 0px\; box-sizing: border-box\; font-size: 16px\; line-height: 1.5rem\; color: rgb(111\, 114\, 135)\; font-family: &quot\;Neue Plak&quot\;\, -apple-system\, BlinkMacSystemFont\, Roboto\, &quot\;Helvetica Neue&quot\;\, Helvetica\, Tahoma\, Arial\, sans-serif\; background-color: rgb(255\, 255\, 255)\;">&nbsp\;</p>\n\n<p style="margin: 0px\; padding: 10px 0px 0px\; box-sizing: border-box\; font-size: 16px\; line-height: 1.5rem\; color: rgb(111\, 114\, 135)\; font-family: &quot\;Neue Plak&quot\;\, -apple-system\, BlinkMacSystemFont\, Roboto\, &quot\;Helvetica Neue&quot\;\, Helvetica\, Tahoma\, Arial\, sans-serif\; background-color: rgb(255\, 255\, 255)\;">Guests are encouraged to dress in elevated casual attire.</p>\n\n<p style="margin: 0px\; padding: 10px 0px 0px\; box-sizing: border-box\; font-size: 16px\; line-height: 1.5rem\; color: rgb(111\, 114\, 135)\; font-family: &quot\;Neue Plak&quot\;\, -apple-system\, BlinkMacSystemFont\, Roboto\, &quot\;Helvetica Neue&quot\;\, Helvetica\, Tahoma\, Arial\, sans-serif\; background-color: rgb(255\, 255\, 255)\;">&nbsp\;</p>\n\n<p style="margin: 0px\; padding: 10px 0px 0px\; box-sizing: border-box\; font-size: 16px\; line-height: 1.5rem\; color: rgb(111\, 114\, 135)\; font-family: &quot\;Neue Plak&quot\;\, -apple-system\, BlinkMacSystemFont\, Roboto\, &quot\;Helvetica Neue&quot\;\, Helvetica\, Tahoma\, Arial\, sans-serif\; background-color: rgb(255\, 255\, 255)\;">This is not a play where guests watch actors and actresses\, this is a game where all dinner guests play as a suspect accused of the crime or a detective solving whodunnit. This interactive\, engaging and memorable evening will be one you don&#39\;t want to forget. Guests should come with their phones charged up\, ready to get some fun photos including &quot\;selfies with the dead guy&quot\;. Bwahahahaha.<br />\n&nbsp\;</p>\nRegister here:<br />\n<a href="https://www.eventbrite.com/e/queenstown-harbor-murder-mystery-dinner-party-tickets-1063641092139?aff=oddtdtcreator">Queenstown Harbor Murder Mystery Dinner Party Tickets\, Fri\, Jan 10\, 2025 at 6:00 PM | Eventbrite</a>
LOCATION:310 Links Lane Queenstown\, MD 21658
UID:e.3409.7503
SEQUENCE:3
DTSTAMP:20260421T135128Z
URL:https://www.talbotchamber.org/events/details/murder-mystery-dinner-party-queenstown-harbor-7503
END:VEVENT

END:VCALENDAR
