BEGIN:VCALENDAR
VERSION:2.0
PRODID:-//ChamberMaster//Event Calendar 2.0//EN
METHOD:PUBLISH
X-PUBLISHED-TTL:P3D
REFRESH-INTERVAL:P3D
CALSCALE:GREGORIAN
BEGIN:VEVENT
DTSTART:20251121T133000Z
DTEND:20251121T143000Z
X-MICROSOFT-CDO-ALLDAYEVENT:FALSE
SUMMARY:Monthly Young Professionals Committee Meeting
DESCRIPTION:Please note: This month's meeting has been moved back one week to accommodate the Waterfowl Festival.\n\nJoin us for our November TYP Steering Committee Meeting as we focus on Toys for Tots planning and updates!\n\nWe'll review the campaign's progress\, finalize logistics for the holiday parade\, and coordinate volunteer needs and collection efforts. We'll also touch on:\n\n\n	\n	Upcoming drop-off site promotions and sponsor recognition\n	\n	\n	Social media and marketing plans to boost toy donations\n	\n	\n	Holiday Luncheon details and ways the YPs can be involved\n	\n	\n	Volunteer opportunities and community engagement\n	\n\n\n  New Date: Friday\, November 21\n\n  Time: 8:30 9:30 a.m.\n\n  Location: Talbot County Chamber of Commerce   Large Conference Room\n\n101 Marlboro Ave\, Suite 53\, Easton\n\nYour ideas and energy help make this campaign a success   let's finish the season strong and bring joy to children across Talbot County!
X-ALT-DESC;FMTTYPE=text/html:<p data-end="390" data-start="279"><span style="color:#FF0000\;"><span style="font-size:16px\;"><strong data-end="295" data-start="279">Please note:</strong> This month&rsquo\;s meeting has been <strong data-end="349" data-start="326">moved back one week</strong> to accommodate the Waterfowl Festival.</span></span></p>\n\n<p data-end="508" data-start="392"><span style="font-size:16px\;">Join us for our November <strong data-end="451" data-start="417">TYP Steering Committee Meeting</strong> as we focus on <strong data-end="506" data-start="467">Toys for Tots planning and updates!</strong></span></p>\n\n<p data-end="668" data-start="510"><span style="font-size:16px\;">We&rsquo\;ll review the campaign&rsquo\;s progress\, finalize logistics for the holiday parade\, and coordinate volunteer needs and collection efforts. We&rsquo\;ll also touch on:</span></p>\n\n<ul data-end="905" data-start="669">\n	<li data-end="730" data-start="669">\n	<p data-end="730" data-start="671"><span style="font-size:16px\;">Upcoming drop-off site promotions and sponsor recognition</span></p>\n	</li>\n	<li data-end="790" data-start="731">\n	<p data-end="790" data-start="733"><span style="font-size:16px\;">Social media and marketing plans to boost toy donations</span></p>\n	</li>\n	<li data-end="852" data-start="791">\n	<p data-end="852" data-start="793"><span style="font-size:16px\;">Holiday Luncheon details and ways the YPs can be involved</span></p>\n	</li>\n	<li data-end="905" data-start="853">\n	<p data-end="905" data-start="855"><span style="font-size:16px\;">Volunteer opportunities and community engagement</span></p>\n	</li>\n</ul>\n\n<p data-end="1104" data-start="907"><span style="font-size:16px\;">&#128197\; <strong data-end="923" data-start="910">New Date:</strong> Friday\, <strong data-end="958" data-start="932">November 21</strong><br data-end="961" data-start="958" />\n&#128355\; <strong data-end="973" data-start="964">Time:</strong> 8:30&ndash\;9:30 a.m.<br data-end="991" data-start="988" />\n&#128205\; <strong data-end="1007" data-start="994">Location:</strong> Talbot County Chamber of Commerce &ndash\; Large Conference Room<br data-end="1068" data-start="1065" />\n101 Marlboro Ave\, Suite 53\, Easton</span></p>\n\n<p data-end="1244" data-start="1106"><span style="font-size:16px\;">Your ideas and energy help make this campaign a success &mdash\; let&rsquo\;s finish the season strong and bring joy to children across Talbot County!</span></p>\n
LOCATION:Chamber Offices/Large Conference Room
UID:e.3409.7826
SEQUENCE:3
DTSTAMP:20260420T201302Z
URL:https://www.talbotchamber.org/events/details/monthly-young-professionals-committee-meeting-11-14-2025-7826
END:VEVENT

END:VCALENDAR
