BEGIN:VCALENDAR
VERSION:2.0
PRODID:-//ChamberMaster//Event Calendar 2.0//EN
METHOD:PUBLISH
X-PUBLISHED-TTL:P3D
REFRESH-INTERVAL:P3D
CALSCALE:GREGORIAN
BEGIN:VEVENT
DTSTART:20250828T210000Z
DTEND:20250828T220000Z
X-MICROSOFT-CDO-ALLDAYEVENT:FALSE
SUMMARY:Location Correction: After Hours Mixer at St. Michaels Community Center
DESCRIPTION:Business in the Front\, Party in the Park\n\n\n\nJoin us for an After Hours Mixer from 5-6pm at the newly renovated St. Michaels Community Center! Enjoy chef-prepared light refreshments and nibbles along with wine & beer provided by St. Michaels Market while connecting with friends\, colleagues\, and community members.\n\nWhen the mixer winds down\, keep the night going with a stroll to Muskrat Park from 6-7:30pm for the final Concert in the Park\, featuring Saved by Zero   Talbot County's own 80s tribute band.\n\n\n\nIt's the best of both worlds: networking and conversation first\, then music\, dancing\, and a beautiful summer evening by the water.\n\n  Legwarmers optional\, fun guaranteed!
X-ALT-DESC;FMTTYPE=text/html:<p data-end="421" data-start="114"><span style="font-size:18px\;"><strong data-end="158" data-start="114">Business in the Front\, Party in the Park</strong><br />\n<br data-end="161" data-start="158" />\nJoin us for an After Hours Mixer from 5-6pm at the newly renovated St. Michaels Community Center! Enjoy chef-prepared light refreshments and nibbles along with wine &amp\; beer provided by St. Michaels Market while connecting with friends\, colleagues\, and community members.</span></p>\n\n<p data-end="738" data-start="423"><span style="font-size:18px\;">When the mixer winds down\, keep the night going&nbsp\;with a stroll to Muskrat Park from 6-7:30pm for the final <em data-end="536" data-start="515">Concert in the Park</em>\, featuring <strong data-end="604" data-start="548"><a href="https://youtu.be/4EuXyBWT9UI">Saved by Zero</a> &mdash\; Talbot County&rsquo\;s own 80s tribute band</strong>.<br />\n<br />\nIt&rsquo\;s the best of both worlds: networking and conversation first\, then music\, dancing\, and a beautiful summer evening by the water.</span></p>\n\n<p data-end="781" data-start="740"><span style="font-size:18px\;">&#127926\; Legwarmers optional\, fun guaranteed!</span></p>\n\n<p data-end="591" data-start="400">&nbsp\;</p>\n
LOCATION:103 Railroad Ave. St. Michaels\, MD
UID:e.3409.1671
SEQUENCE:3
DTSTAMP:20260421T020900Z
URL:https://www.talbotchamber.org/events/details/location-correction-after-hours-mixer-at-st-michaels-community-center-1671
END:VEVENT

END:VCALENDAR
