BEGIN:VCALENDAR
VERSION:2.0
PRODID:-//ChamberMaster//Event Calendar 2.0//EN
METHOD:PUBLISH
X-PUBLISHED-TTL:P3D
REFRESH-INTERVAL:P3D
CALSCALE:GREGORIAN
BEGIN:VEVENT
DTSTART:20250514T154500Z
DTEND:20250514T171500Z
X-MICROSOFT-CDO-ALLDAYEVENT:FALSE
SUMMARY:Legislative Wrap Up Luncheon
DESCRIPTION:Join the Talbot County Chamber of Commerce for our Annual Legislative Wrap Up featuring District 37B Legislators Senator Johnny Mautz\, Delegate Chris Adams\, and Delegate Tom Hutchinson. Each will give their review of the recently concluded Legislative Session and take questions during a Q&A.   \n\n\n\nEnjoy lunch and refreshments prepared by the V.F.W.'s own Chef Seth Willis
X-ALT-DESC;FMTTYPE=text/html:Join the Talbot County Chamber of Commerce for our Annual Legislative Wrap Up featuring District 37B Legislators Senator Johnny Mautz\, Delegate Chris Adams\, and Delegate Tom Hutchinson. Each will give their review of the recently concluded Legislative Session and take questions during a Q&amp\;A.&nbsp\; &nbsp\;<br />\n<br />\nEnjoy lunch and refreshments prepared by the V.F.W.&#39\;s own Chef Seth Willis<br />\n<br />\n&nbsp\;
LOCATION:Easton VFW 355 Glebe Road Easton\, MD
UID:e.3409.7762
SEQUENCE:3
DTSTAMP:20260421T064639Z
URL:https://www.talbotchamber.org/events/details/legislative-wrap-up-luncheon-7762
END:VEVENT

END:VCALENDAR
