BEGIN:VCALENDAR
VERSION:2.0
PRODID:-//ChamberMaster//Event Calendar 2.0//EN
METHOD:PUBLISH
X-PUBLISHED-TTL:P3D
REFRESH-INTERVAL:P3D
CALSCALE:GREGORIAN
BEGIN:VEVENT
DTSTART:20251120T220000Z
DTEND:20251121T000000Z
X-MICROSOFT-CDO-ALLDAYEVENT:FALSE
SUMMARY:Ladies Night at Nelson Coleman Jewelers
DESCRIPTION:Ladies Night with designer Irrum Merrill\n\n\n\nFirst 50 Guests Receive a Free Gift Bag\n\n\n\nTHREE chances to win a $500 Shopping Spree*\n\n*Exclusions apply.  See store for details. No purchase necessary.  Must be present to win.
X-ALT-DESC;FMTTYPE=text/html:<span style="font-size:16px\;">Ladies Night with designer Irrum Merrill<br />\n<br />\nFirst 50 Guests Receive a Free Gift Bag<br />\n<br />\nTHREE chances to win a $500 Shopping Spree*</span><br />\n<em>*Exclusions apply.&nbsp\; See store for details. No purchase necessary.&nbsp\; Must be present to win.</em>
LOCATION:22 North Washington Street Easton\, MD
UID:e.3409.8150
SEQUENCE:3
DTSTAMP:20260420T201345Z
URL:https://www.talbotchamber.org/events/details/ladies-night-at-nelson-coleman-jewelers-8150
END:VEVENT

END:VCALENDAR
