BEGIN:VCALENDAR
VERSION:2.0
PRODID:-//ChamberMaster//Event Calendar 2.0//EN
METHOD:PUBLISH
X-PUBLISHED-TTL:P3D
REFRESH-INTERVAL:P3D
CALSCALE:GREGORIAN
BEGIN:VEVENT
DTSTART:20251206T220000Z
DTEND:20251207T040000Z
X-MICROSOFT-CDO-ALLDAYEVENT:FALSE
SUMMARY:Kocktails with Krampus
DESCRIPTION:Whether you have been naughty or nice - Krampus is coming! Join us on December 6th for Midnight Madness! Krampus will be taking over the patio! Enjoy festive cocktails\, late night snacks and holiday music! Bring a new unwrapped toy for our Marine Toys for Tots drive and receive your first drink on us!
X-ALT-DESC;FMTTYPE=text/html:Whether you have been naughty or nice - Krampus is coming! Join us on December 6th for Midnight Madness! Krampus will be taking over the patio! Enjoy festive cocktails\, late night snacks and holiday music! Bring a new unwrapped toy for our Marine Toys for Tots drive and receive your first drink on us!
LOCATION:Old Brick Inn Patio 401 S. Talbot Street St. Michaels\, MD 21663
UID:e.3409.8159
SEQUENCE:3
DTSTAMP:20260420T184648Z
URL:https://www.talbotchamber.org/events/details/kocktails-with-krampus-8159
END:VEVENT

END:VCALENDAR
