BEGIN:VCALENDAR
VERSION:2.0
PRODID:-//ChamberMaster//Event Calendar 2.0//EN
METHOD:PUBLISH
X-PUBLISHED-TTL:P3D
REFRESH-INTERVAL:P3D
CALSCALE:GREGORIAN
BEGIN:VEVENT
DTSTART:20210922T203000Z
DTEND:20210922T220000Z
X-MICROSOFT-CDO-ALLDAYEVENT:FALSE
SUMMARY:Keller Williams Select Ribbon Cutting
DESCRIPTION:Keller Williams Select Realtors Ribbon Cutting
X-ALT-DESC;FMTTYPE=text/html:Keller Williams Select Realtors Ribbon Cutting&nbsp\;
LOCATION:111 N. Harrison Street Easton\, MD 21601
UID:e.3409.1405
SEQUENCE:3
DTSTAMP:20260424T053403Z
URL:https://www.talbotchamber.org/events/details/keller-williams-select-ribbon-cutting-1405
END:VEVENT

END:VCALENDAR
