BEGIN:VCALENDAR
VERSION:2.0
PRODID:-//ChamberMaster//Event Calendar 2.0//EN
METHOD:PUBLISH
X-PUBLISHED-TTL:P3D
REFRESH-INTERVAL:P3D
CALSCALE:GREGORIAN
BEGIN:VEVENT
DTSTART;VALUE=DATE:20250405
DTEND;VALUE=DATE:20250413
TRANSP:TRANSPARENT
X-MICROSOFT-CDO-ALLDAYEVENT:TRUE
SUMMARY:Join Our Shop & Hop Easter Egg Hunt – Fun\, Prizes & Local Shopping!
DESCRIPTION:We're excited to invite the community to join our Shop & Hop Easter Egg Hunt from April 5th   April 12th!  This event is designed to support local businesses\, increase foot traffic\, and engage the community in a fun and interactive way.\n\nHow it works:\n\nCustomers visit participating businesses to collect an Easter egg filled with special discounts\, prizes\, and treats!\n\nSome businesses may have a hidden Golden Egg with a bigger prize! \n\nShoppers will receive a punch card at any participating location to track their visits.\n\nThose who complete their punch card will be entered into a BIG raffle!\n\nParticipating Businesses:\n\n\n	Alternative Therapy MD   503 Cynwood Dr. Suite 4\, Easton\, MD 21601\n	\n	Beau Monde Elite Fitness- 124 S Aurora St\, Easton\, MD 21601\n	\n	\n	Little Rascals Consignment Shop   7924 Ocean Gateway\, Easton\, MD 21601\n	\n	\n	Kustomscapes & Pools  9017 Centreville Rd\, Easton\, MD 21601\n	\n	\n	 Playa Bowls    28601 Marlboro Ave\, Easton\, MD 21601\n	\n	\n	Divine Faces- 8709 Brooks Dr\, Easton\, MD 21601\n	\n	\n	The Studio Hair Salon- 101 E Dover St\, Easton\, MD 21601\n	\n\n\nHow to Submit Completed Punch Cards for the Raffle:\n\nDrop off at Alternative Therapy MD   503 Cynwood Dr. Suite 4\, Easton MD 21601\n\n Take a picture of the completed punch card and email it to info@alternativetherapymd.com or send it via social media (@alternativetherapymd)!\n\nFollow us on social media (@alternativetherapymd) for clues on where to find special Easter eggs at participating businesses!\n\n \n\nLooking forward to a fun and successful event!
X-ALT-DESC;FMTTYPE=text/html:<div>We&rsquo\;re excited to invite the community to join our&nbsp\;<strong>Shop &amp\; Hop Easter Egg Hunt</strong>&nbsp\;from&nbsp\;<strong>April 5th &ndash\; April 12th!</strong>&nbsp\; This event is designed to support&nbsp\;<strong>local businesses</strong>\, increase foot traffic\, and engage the community in a fun and interactive way.</div>\n\n<div><strong>How it works:</strong><br />\nCustomers visit&nbsp\;<strong>participating businesses</strong>&nbsp\;to collect an Easter egg filled with&nbsp\;<strong>special discounts\, prizes\, and treats!</strong><br />\nSome businesses may have a&nbsp\;<strong>hidden Golden Egg</strong>&nbsp\;with a bigger prize!&nbsp\;<br />\nShoppers will receive a&nbsp\;<strong>punch card</strong>&nbsp\;at any participating location to track their visits.<br />\nThose who complete their punch card will be entered into a&nbsp\;<strong>BIG raffle!</strong></div>\n\n<div><strong>Participating Businesses:</strong></div>\n\n<ul>\n	<li><strong>Alternative Therapy MD</strong>&nbsp\;&ndash\; 503 Cynwood Dr. Suite 4\, Easton\, MD 21601</li>\n	<li>\n	<div><strong>Beau Monde Elite Fitness-&nbsp\;</strong>124 S Aurora St\, Easton\, MD 21601</div>\n	</li>\n	<li>\n	<div><strong>Little Rascals Consignment Shop</strong>&nbsp\;&ndash\; 7924 Ocean Gateway\, Easton\, MD 21601</div>\n	</li>\n	<li>\n	<div><strong>Kustomscapes &amp\; Pools</strong>&ndash\; 9017 Centreville Rd\, Easton\, MD 21601</div>\n	</li>\n	<li>\n	<div><strong>&nbsp\;Playa Bowls</strong>&nbsp\;&ndash\;&nbsp\;<strong>&nbsp\;</strong>28601 Marlboro Ave\, Easton\, MD 21601</div>\n	</li>\n	<li>\n	<div><strong>Divine Faces-&nbsp\;</strong>8709 Brooks Dr\, Easton\, MD 21601</div>\n	</li>\n	<li>\n	<div><strong>The Studio Hair Salon</strong>- 101 E Dover St\, Easton\, MD 21601</div>\n	</li>\n</ul>\n\n<div><strong>How to Submit Completed Punch Cards for the Raffle:</strong><br />\nDrop off at&nbsp\;<strong>Alternative Therapy MD</strong>&nbsp\;&ndash\;&nbsp\;<strong>503 Cynwood Dr. Suite 4\, Easton MD 21601</strong><br />\n&nbsp\;Take a picture of the completed punch card and&nbsp\;<strong>email it to info@alternativetherapymd.com</strong>&nbsp\;or send it via&nbsp\;<strong>social media (@alternativetherapymd)!</strong></div>\n\n<div><strong>Follow us on social media (@alternativetherapymd)</strong>&nbsp\;for clues on where to find&nbsp\;<strong>special Easter eggs</strong>&nbsp\;at participating businesses!</div>\n\n<div>&nbsp\;</div>\n\n<div>Looking forward to a fun and successful event!</div>\n
LOCATION:7 Local participating Businesses: Alternative Therapy MD 503 Cynwood Dr. Suite 4\, Easton\, MD 21601 Beau Monde Elite Fitness- 124 S Aurora St\, Easton\, MD 21601 Little Rascals Consignment Shop 7924 Ocean Gateway\, Easton\, MD 21601 Kustomscapes & Pools 9017 Centreville Rd\, Easton\, MD 21601 Playa Bowls 28601 Marlboro Ave\, Easton\, MD 21601 Divine Faces- 8709 Brooks Dr\, Easton\, MD 21601 The Studio Hair Salon- 101 E Dover St\, Easton\, MD 21601
UID:e.3409.7954
SEQUENCE:3
DTSTAMP:20260421T100223Z
URL:https://www.talbotchamber.org/events/details/join-our-shop-hop-easter-egg-hunt-fun-prizes-local-shopping-7954
END:VEVENT

END:VCALENDAR
