BEGIN:VCALENDAR
VERSION:2.0
PRODID:-//ChamberMaster//Event Calendar 2.0//EN
METHOD:PUBLISH
X-PUBLISHED-TTL:P3D
REFRESH-INTERVAL:P3D
CALSCALE:GREGORIAN
BEGIN:VEVENT
DTSTART:20250524T223000Z
DTEND:20250525T000000Z
X-MICROSOFT-CDO-ALLDAYEVENT:FALSE
SUMMARY:Hoedown at Dover Station
DESCRIPTION:Old Fashioned Square Dance !!\n\nCaller Dennis O'Neale will make square dancing easy.\n\nSquare Dancing is friendship set to music!\n\nExercise the body and mind while having fun!\n\nNo experience necessary.\n\nDennis started square dancing in 1996 and started teaching and calling in 2006\, both in Frisco\, CO.\n\nHe has been the club caller/teacher for the Pine Steppers Square Dance Club of Ocean Pines\, MD for 12 years and is also the club caller/teacher for the Dorchester Swingers Square Dance club in Cambridge\, MD. He has called numerous party dances over the years for private parties\, church groups\, weddings and non-profit organizations.\n\nAges 10&up. Please arrive 10 minutes early and bring a water bottle.
X-ALT-DESC;FMTTYPE=text/html:<p style="text-align:initial">Old Fashioned Square Dance !!</p>\n\n<p style="text-align:initial">Caller Dennis O&#39\;Neale will make square dancing easy.</p>\n\n<div style="text-align:initial"><span style="text-align:initial">Square Dancing is friendship set to music!</span></div>\n\n<p style="text-align:initial">Exercise the body and mind while having fun!</p>\n\n<p style="text-align:initial">No experience necessary.</p>\n\n<div style="text-align:initial"><span style="text-align:initial">Dennis started square dancing in 1996 and started teaching and calling in 2006\, both in Frisco\, CO.</span></div>\n\n<p style="text-align:initial">He has been the club caller/teacher for the Pine Steppers Square Dance Club of Ocean Pines\, MD for 12 years and is also the club caller/teacher for the Dorchester Swingers Square Dance club in Cambridge\, MD. He has called numerous party dances over the years for private parties\, church groups\, weddings and non-profit organizations.</p>\n\n<p style="text-align:initial">Ages 10&amp\;up. Please arrive 10 minutes early and bring a water bottle.</p>\n
LOCATION:Dover Station
UID:e.3409.7996
SEQUENCE:3
DTSTAMP:20260421T064819Z
URL:https://www.talbotchamber.org/events/details/hoedown-at-dover-station-7996
END:VEVENT

END:VCALENDAR
