BEGIN:VCALENDAR
VERSION:2.0
PRODID:-//ChamberMaster//Event Calendar 2.0//EN
METHOD:PUBLISH
X-PUBLISHED-TTL:P3D
REFRESH-INTERVAL:P3D
CALSCALE:GREGORIAN
BEGIN:VEVENT
DTSTART;VALUE=DATE:20241128
DTEND;VALUE=DATE:20241129
TRANSP:TRANSPARENT
X-MICROSOFT-CDO-ALLDAYEVENT:TRUE
SUMMARY:Happy Thanksgiving!
DESCRIPTION:Happy Thanksgiving Chamber members!\n\n\n\nThe chamber offices will be closed Thursday\, November 28th and reopen on Monday\, December 2nd.
X-ALT-DESC;FMTTYPE=text/html:Happy Thanksgiving Chamber members!<br />\n<br />\nThe chamber offices will be closed Thursday\, November 28th and reopen on Monday\, December 2nd.&nbsp\;
LOCATION:
UID:e.3409.7364
SEQUENCE:3
DTSTAMP:20260421T164317Z
URL:https://www.talbotchamber.org/events/details/happy-thanksgiving-7364
END:VEVENT

END:VCALENDAR
