BEGIN:VCALENDAR
VERSION:2.0
PRODID:-//ChamberMaster//Event Calendar 2.0//EN
METHOD:PUBLISH
X-PUBLISHED-TTL:P3D
REFRESH-INTERVAL:P3D
CALSCALE:GREGORIAN
BEGIN:VEVENT
DTSTART:20241212T220000Z
DTEND:20241213T000000Z
X-MICROSOFT-CDO-ALLDAYEVENT:FALSE
SUMMARY:Hair 'O the Dog's 20th Anniversary Celebration
DESCRIPTION:Hair 'o the Dog is celebrating 20 years! \n\n\n\nCome join us for a memorable anniversary celebration of 20 years with Hair 'O the Dog\, the Eastern Shore's Premier Retailer of beer\, wine and spirits.\n\n\n\nHair 'O the Dog carries over 800 wines\, 400 different brands of beer\, more than 100 cordials\, 100 vodkas\, 90 rums\, 50 tequilas\, 50 single-malt scotch whiskey\, and 40 gins.  As if that isn't enough to fill their days\, they are an active supporter of charitable causes in our community\, and gives back\, "not because it's the right thing to do from a business standpoint\, but because we want to. We live in this community\, our children grew up and went to school here\, and because it's our home. We are truly overwhelmed by the support our friends and neighbors have given us and want to give back the same."\n\n\n\nStop by and enjoy light hors d'oeuvres\, along with selections of beer and wine.\n\n\n\nWe're looking forward to seeing you!
X-ALT-DESC;FMTTYPE=text/html:<span style="font-family:tahoma\;"><span style="font-size:16px\;">Hair &#39\;o the Dog is celebrating 20 years!&nbsp\;<br />\n<br />\nCome join us for a memorable anniversary celebration of 20 years with Hair &#39\;O the Dog\,&nbsp\;the Eastern Shore&#39\;s Premier Retailer of beer\, wine and spirits.<br />\n<br />\n<span style="background-color: rgb(255\, 255\, 255)\;">Hair &#39\;O the Dog carries over 800 wines\, 400 different brands of beer\, more than 100 cordials\, 100 vodkas\, 90 rums\, 50 tequilas\, 50 single-malt scotch whiskey\, and 40 gins.&nbsp\; As if that isn&#39\;t enough to fill their days\, they are an active supporter of charitable causes in our community\, and gives back\, &quot\;</span><span class="attentionText" style="box-sizing: inherit\; background-color: rgb(255\, 255\, 255)\;">not because it&rsquo\;s the right thing to do from a business standpoint\, but because we want to.</span><span style="box-sizing: inherit\; background-color: rgb(255\, 255\, 255)\;">&nbsp\;</span><span style="background-color: rgb(255\, 255\, 255)\;">We live in this community\, our children grew up and went to school here\, and because it&rsquo\;s our home. We are truly overwhelmed by the support our friends and neighbors have given us and want to give back the same.&quot\;</span><br />\n<br />\nStop by and enjoy light hors d&#39\;oeuvres\, along with selections of beer and wine.<br />\n<br />\n<span style="color:black\;">We&#39\;re looking forward to seeing you!</span></span></span><br />\n&nbsp\;
LOCATION:219 Marlboro Avenue Easton\, MD
UID:e.3409.2872
SEQUENCE:3
DTSTAMP:20260421T135133Z
URL:https://www.talbotchamber.org/events/details/hair-o-the-dog-s-20th-anniversary-celebration-2872
END:VEVENT

END:VCALENDAR
