BEGIN:VCALENDAR
VERSION:2.0
PRODID:-//ChamberMaster//Event Calendar 2.0//EN
METHOD:PUBLISH
X-PUBLISHED-TTL:P3D
REFRESH-INTERVAL:P3D
CALSCALE:GREGORIAN
BEGIN:VEVENT
DTSTART:20251030T210000Z
DTEND:20251030T220000Z
X-MICROSOFT-CDO-ALLDAYEVENT:FALSE
SUMMARY:Hair 'o the Dog Relocation Grand Opening and Ribbon Cutting
DESCRIPTION:Hair O' the Dog Wine & Spirits has been rehomed!  \n\n\n\nThey've moved just across the parking lot   now next to Ulta   and we're marking the spot with a ribbon cutting and grand opening.\n\n\n\n  219 Marlboro Avenue\, Unit 14\, Easton\, MD 21601\n\n\n\nIt's the same great pack and the same exceptional service you've come to love\, now in a brand-new location. Come celebrate with us\, enjoy some "treats" and raise a glass to their continued success in the community.
X-ALT-DESC;FMTTYPE=text/html:<p data-end="279" data-start="89"><span style="font-size:18px\;"><strong data-end="144" data-start="89">Hair O&rsquo\; the Dog Wine &amp\; Spirits has been rehomed! &#128062\;</strong><br data-end="147" data-start="144" />\n<br />\nThey&rsquo\;ve moved just across the parking lot &mdash\; now next to Ulta &mdash\; and we&rsquo\;re marking the spot with a ribbon cutting and grand opening.<br />\n<br />\n&#128205\; <strong data-end="334" data-start="284">219 Marlboro Avenue\, Unit 14\, Easton\, MD 21601</strong></span></p>\n\n<p data-end="587" data-start="338"><br />\n<span style="font-size:18px\;">It&rsquo\;s the same great pack and the same exceptional service you&rsquo\;ve come to love\, now in a brand-new location. Come celebrate with us\, enjoy some &ldquo\;treats&rdquo\;&nbsp\;and raise a glass to their continued success in the community. &#127863\;&#129472\;&#128054\;</span></p>\n
LOCATION:219 Marlboro Ave\, Unit 14 (to the right of Ulta Beauty)
UID:e.3409.8136
SEQUENCE:3
DTSTAMP:20260420T232246Z
URL:https://www.talbotchamber.org/events/details/hair-o-the-dog-relocation-grand-opening-and-ribbon-cutting-8136
END:VEVENT

END:VCALENDAR
