BEGIN:VCALENDAR
VERSION:2.0
PRODID:-//ChamberMaster//Event Calendar 2.0//EN
METHOD:PUBLISH
X-PUBLISHED-TTL:P3D
REFRESH-INTERVAL:P3D
CALSCALE:GREGORIAN
BEGIN:VEVENT
DTSTART:20241204T213000Z
DTEND:20241204T223000Z
X-MICROSOFT-CDO-ALLDAYEVENT:FALSE
SUMMARY:Grand Re-opening of Silver Linings in Easton
DESCRIPTION:Silver Linings is celebrating the re-opening of their Easton store after a re-location and closure during the Covid-19 Pandemic.\n\nThe store owner\, Aida Leisure\, the store manager\, Ellie Mickey\, and city officials will be present for an official ribbon cutting ceremony.\n\nSilver Linings is a sterling silver and gemstone jewelry store in the town of Easton\, MD.\n\nThe 24 year-old company has an extensive collection of designer\, sea life\, and nautical jewelry as well as original jewelry designed by the store's owner that is specific to the Chesapeake Bay. Silver Linings is well-known throughout the community for "Pearls of Promise\," a program that gifts each graduating girl from all high schools in the county with a classic strand of freshwater pearls.\n\nFor more information\, please call 410-745-0266 or visit SilverLiningsMd.com.\n\n\n\nLight refreshments will be served.
X-ALT-DESC;FMTTYPE=text/html:<span style="font-size:14px\;">Silver Linings is celebrating the re-opening of their Easton store after a re-location and closure during the Covid-19 Pandemic.<br />\nThe store owner\, Aida Leisure\, the store manager\, Ellie Mickey\, and city officials will be present for an official ribbon cutting ceremony.<br />\nSilver Linings is a sterling silver and gemstone jewelry store in the town of Easton\, MD.<br />\nThe 24 year-old company has an extensive collection of designer\, sea life\, and nautical jewelry as well as original jewelry designed by the store&#39\;s owner that is specific to the Chesapeake Bay. Silver Linings is well-known throughout the community for &quot\;Pearls of Promise\,&quot\; a program that gifts each graduating girl from all high schools in the county with a classic strand of freshwater pearls.<br />\nFor more information\, please call 410-745-0266 or visit SilverLiningsMd.com.<br />\n<br />\nLight refreshments will be served.</span>
LOCATION:7 N. Harrison Street Easton\, MD
UID:e.3409.7501
SEQUENCE:3
DTSTAMP:20260421T135139Z
URL:https://www.talbotchamber.org/events/details/grand-re-opening-of-silver-linings-in-easton-7501
END:VEVENT

END:VCALENDAR
