BEGIN:VCALENDAR
VERSION:2.0
PRODID:-//ChamberMaster//Event Calendar 2.0//EN
METHOD:PUBLISH
X-PUBLISHED-TTL:P3D
REFRESH-INTERVAL:P3D
CALSCALE:GREGORIAN
BEGIN:VEVENT
DTSTART:20251008T200000Z
DTEND:20251008T220000Z
X-MICROSOFT-CDO-ALLDAYEVENT:FALSE
SUMMARY:Grand Opening & Ribbon Cutting - Skin by Denise
DESCRIPTION:Celebrate with us at the Grand opening & Ribbon Cutting for Skin by Denise!\n\n\n\nA new beginning\, great attendee specials\, raffles\, refreshments\, and more.\n\n\n\nComplimentary make-up brush cleaning!
X-ALT-DESC;FMTTYPE=text/html:<span style="font-size:18px\;">Celebrate with us at the Grand opening &amp\; Ribbon Cutting for Skin by Denise!<br />\n<br />\nA new beginning\, great attendee specials\, raffles\, refreshments\, and more.<br />\n<br />\nComplimentary make-up brush cleaning!</span>
LOCATION:123 North Washington St. Suite 101 Easton\, MD
UID:e.3409.8093
SEQUENCE:3
DTSTAMP:20260420T215455Z
URL:https://www.talbotchamber.org/events/details/grand-opening-ribbon-cutting-skin-by-denise-8093
END:VEVENT

END:VCALENDAR
