BEGIN:VCALENDAR
VERSION:2.0
PRODID:-//ChamberMaster//Event Calendar 2.0//EN
METHOD:PUBLISH
X-PUBLISHED-TTL:P3D
REFRESH-INTERVAL:P3D
CALSCALE:GREGORIAN
BEGIN:VEVENT
DTSTART:20251002T200000Z
DTEND:20251002T230000Z
X-MICROSOFT-CDO-ALLDAYEVENT:FALSE
SUMMARY:Grand Opening & Ribbon Cutting for ProMD Health
DESCRIPTION:Join us for the ProMD Easton Grand Opening on October 2nd!  Get ready for an evening filled with delicious bites\, refreshing drinks\, and exciting giveways.  Enjoy exclusive event-only specials\, freebies\, and giveaways that you won't want to miss.  Let's toast to new beginnings  -- see you there!\n\n\n\nAt ProMD Health Easton\, your comfort and confidence are central to everything we do. Located at 28601 Marlboro Ave.\, Ste. 203\, our medspa  offers a refined and welcoming environment supported by an expert medical team. Our location combines small-town charm with elevated care. Proudly serving the Easton\, Cambridge\, Salisbury\, and Chestertown areas\, we deliver trusted\, personalized treatments and natural-looking results that reflect the ProMD Health standard.
X-ALT-DESC;FMTTYPE=text/html:<span style="font-size:20px\;"><span style="color:#0B1D2D\;">Join us for the ProMD Easton Grand Opening on October 2nd!&nbsp\; Get ready for an evening filled with delicious bites\, refreshing drinks\, and exciting giveways.&nbsp\; Enjoy exclusive event-only specials\, freebies\, and giveaways that you won&#39\;t want to miss.&nbsp\; Let&#39\;s toast to new beginnings&nbsp\; -- see you there!<br />\n<br />\nAt ProMD Health Easton\, your comfort and confidence are central to everything we do. Located at 28601 Marlboro Ave.\, Ste. 203\, our medspa&nbsp\; offers a refined and welcoming environment supported by an expert medical team. Our location combines small-town charm with elevated care. Proudly serving the Easton\, Cambridge\, Salisbury\, and Chestertown areas\, we deliver trusted\, personalized treatments and natural-looking results that reflect the ProMD Health standard.</span></span>
LOCATION:28601 Marlboro Avenue Ste # 203 Easton\, MD
UID:e.3409.8135
SEQUENCE:3
DTSTAMP:20260420T215512Z
URL:https://www.talbotchamber.org/events/details/grand-opening-ribbon-cutting-for-promd-health-8135
END:VEVENT

END:VCALENDAR
