BEGIN:VCALENDAR
VERSION:2.0
PRODID:-//ChamberMaster//Event Calendar 2.0//EN
METHOD:PUBLISH
X-PUBLISHED-TTL:P3D
REFRESH-INTERVAL:P3D
CALSCALE:GREGORIAN
BEGIN:VEVENT
DTSTART:20250122T180000Z
DTEND:20250122T190000Z
X-MICROSOFT-CDO-ALLDAYEVENT:FALSE
SUMMARY:Grand Opening Ribbon Cutting for Critchlow Adkins Chrildren's Centers' new Central Office building
DESCRIPTION:Come celebrate the Grand Opening and Ribbon Cutting for Critchlow Adkins Children's Centers' new Central Office building!\n\n\n\nCritchlow Adkins Children's Center provides quality\, financially accessible childcare for children and their families in a nurturing\, diverse\, safe\, and enriching environment.\n\n\n\nAfter the ribbon cutting ceremony\, we hope you stay for refreshments and take a tour of their new offices.
X-ALT-DESC;FMTTYPE=text/html:<span style="font-size:14px\;"><strong>Come celebrate the Grand Opening and Ribbon Cutting for Critchlow Adkins Children&#39\;s Centers&#39\; new Central Office building!<br />\n<br />\nCritchlow Adkins Children&#39\;s Center provides quality\, financially accessible childcare for children and their families in a nurturing\, diverse\, safe\, and enriching environment.<br />\n<br />\nAfter the ribbon cutting ceremony\, we hope you stay for refreshments and take a tour of their new offices.</strong></span><br />\n&nbsp\;
LOCATION:15 S. Hanson Street Easton\, MD
UID:e.3409.7512
SEQUENCE:3
DTSTAMP:20260421T123544Z
URL:https://www.talbotchamber.org/events/details/grand-opening-ribbon-cutting-for-critchlow-adkins-chrildren-s-centers-new-central-office-building-7512
END:VEVENT

END:VCALENDAR
