BEGIN:VCALENDAR
VERSION:2.0
PRODID:-//ChamberMaster//Event Calendar 2.0//EN
METHOD:PUBLISH
X-PUBLISHED-TTL:P3D
REFRESH-INTERVAL:P3D
CALSCALE:GREGORIAN
BEGIN:VEVENT
DTSTART:20250628T140000Z
DTEND:20250628T180000Z
X-MICROSOFT-CDO-ALLDAYEVENT:FALSE
SUMMARY:Free Business Seminar at BAAM
DESCRIPTION:Free Business Seminar at BAAM Academic Center on June 28\n\n \n\nLocal business owners and aspiring entrepreneurs are invited to attend Solid Foundations\, Limitless Futures: Building a Sustainable Business\, a free business seminar designed to help companies establish strong operational foundations and discover essential tools for long-term success.\n\n \n\nThe seminar will take place on Saturday\, June 28 from 10 a.m.-2 p.m. at the Building African American Minds (BAAM) Academic Center in Easton. Registration is free and open to the public\, though space is limited to 80 participants.\n\n \n\nThis one-day event is presented by Building African American Minds (BAAM) in partnership with the Rural Maryland Council and the Talbot County Department of Economic Development and Tourism. The conference is a part of BAAM's ongoing workforce development initiative.\n\n \n\nParticipants will benefit from expert-led sessions by Will Holmes Consulting\, a renowned Baltimore-based business advisory firm. The agenda will feature practical strategies and insights on key topics including Artificial Intelligence (AI) in business\, effective marketing strategies\, legal essentials for small businesses\, and human resources management.\n\n \n\n"This conference is reflective of our ongoing partnership with the Talbot County Department of Economic Development and Tourism\," says Dr. James Bell\, director of instruction\, academic support\, and community well-being at BAAM. "We are especially thankful to the Rural Maryland Council for providing financial support that allows us to bring in experts to share strategies with business owners that will help their business thrive even in times of uncertainty."\n\n \n\nCassandra Vanhooser\, director of economic development and tourism\, says helping businesses build strong foundations is good business.\n\n \n\n"Our goal is to equip entrepreneurs with tools to build resilient businesses that grow and thrive\," Vanhooser says. "What's good for businesses is good for Talbot County."\n\n \n\nFor more information\, call (443) 496-3034 or email Dr. James Bell at jbell@baaminc.org. To register\, visit whcusa.com/solid.
X-ALT-DESC;FMTTYPE=text/html:<strong><span style="color:black\;">Free Business Seminar at BAAM Academic Center on June 28</span></strong><br />\n&nbsp\;<br />\n<span style="color:black\;">Local business owners and aspiring entrepreneurs are invited to attend Solid Foundations\, Limitless Futures: Building a Sustainable Business\, a free business seminar designed to help companies establish strong operational foundations and discover essential tools for long-term success.</span><br />\n&nbsp\;<br />\n<span style="color:black\;">The seminar will take place on Saturday\, June 28 from 10 a.m.-2 p.m. at the Building African American Minds (BAAM) Academic Center in Easton. Registration is free and open to the public\, though space is limited to 80 participants.</span><br />\n&nbsp\;<br />\n<span style="color:black\;">This one-day event is presented by Building African American Minds (BAAM) in partnership with the Rural Maryland Council and the Talbot County Department of Economic Development and Tourism. The conference is a part of BAAM&rsquo\;s ongoing workforce development initiative.</span><br />\n&nbsp\;<br />\n<span style="color:black\;">Participants will benefit from expert-led sessions by Will Holmes Consulting\, a renowned Baltimore-based business advisory firm. The agenda will feature practical strategies and insights on key topics including Artificial Intelligence (AI) in business\, effective marketing strategies\, legal essentials for small businesses\, and human resources management.</span><br />\n&nbsp\;<br />\n<span style="color:black\;">&ldquo\;This conference is reflective of our ongoing partnership with the Talbot County Department of Economic Development and Tourism\,&rdquo\; says Dr. James Bell\, director of instruction\, academic support\, and community well-being at BAAM. &ldquo\;We are especially thankful to the Rural Maryland Council for providing financial support that allows us to bring in experts to share strategies with business owners that will help their business thrive even in times of uncertainty.&rdquo\;</span><br />\n&nbsp\;<br />\n<span style="color:black\;">Cassandra Vanhooser\, director of economic development and tourism\, says helping businesses build strong foundations is good business.</span><br />\n&nbsp\;<br />\n<span style="color:black\;">&ldquo\;Our goal is to equip entrepreneurs with tools to build resilient businesses that grow and thrive\,&rdquo\; Vanhooser says. &ldquo\;What&rsquo\;s good for businesses is good for Talbot County.&rdquo\;</span><br />\n&nbsp\;<br />\n<span style="color:black\;">For more information\, call (443) 496-3034 or email Dr. James Bell at </span><u><span style="color:#467886\;"><a href="mailto:jbell@baaminc.org"><span style="color:#467886\;">jbell@baaminc.org</span></a></span></u><span style="color:black\;">. To register\, visit </span><u><span style="color:#467886\;"><a href="https://whcusa.com/solid/"><span style="color:#467886\;">whcusa.com/solid</span></a></span></u><span style="color:black\;">.</span><br />\n&nbsp\;
LOCATION:Building African American Minds (BAAM) Academic Center in Easton
UID:e.3409.8021
SEQUENCE:3
DTSTAMP:20260421T053125Z
URL:https://www.talbotchamber.org/events/details/free-business-seminar-at-baam-8021
END:VEVENT

END:VCALENDAR
