BEGIN:VCALENDAR
VERSION:2.0
PRODID:-//ChamberMaster//Event Calendar 2.0//EN
METHOD:PUBLISH
X-PUBLISHED-TTL:P3D
REFRESH-INTERVAL:P3D
CALSCALE:GREGORIAN
BEGIN:VEVENT
DTSTART:20250325T123000Z
DTEND:20250325T133000Z
X-MICROSOFT-CDO-ALLDAYEVENT:FALSE
SUMMARY:Forum on Budget Impacts for Talbot County Nonprofits
DESCRIPTION:Has your organization been impacted by recent Federal and State budget cuts?\n\n\n\nThe Talbot Family Network\, Mid-Shore Community Foundation\, and the Talbot County Chamber of Commerce invite you to attend a forum to discuss how these budget changes are affecting nonprofits in Talbot County.\n\n\n\nThis meeting will provide an opportunity for local organizations to share their experiences and challenges\, including impacts on budgets\, service delivery\, and overall mission. \n\n\n\nYour insights will be invaluable as we assess the broader effects of these changes on our community.\n\n\n\nUse this Google form to register:\n\n\n\n \n\n\n\nREGISTER HERE\n\n\n\n\n\nWe hope to see you there!\n\n\n\n\n\nTalbot Family Network\n\nMid-Shore Community Foundation\n\nTalbot County Chamber of Commerce
X-ALT-DESC;FMTTYPE=text/html:<div style="border: 0px\; font-variant-numeric: inherit\; font-variant-east-asian: inherit\; font-variant-alternates: inherit\; font-variant-position: inherit\; font-variant-emoji: inherit\; font-stretch: inherit\; font-size: 15px\; line-height: inherit\; font-family: &quot\;Segoe UI&quot\;\, &quot\;Segoe UI Web (West European)&quot\;\, -apple-system\, BlinkMacSystemFont\, Roboto\, &quot\;Helvetica Neue&quot\;\, sans-serif\; font-optical-sizing: inherit\; font-size-adjust: inherit\; font-kerning: inherit\; font-feature-settings: inherit\; font-variation-settings: inherit\; margin: 0px\; padding: 0px\; vertical-align: baseline\; color: rgb(36\, 36\, 36)\;">\n<p class="x_MsoNormal" data-olk-copy-source="MessageBody" style="margin: 0in\; font-size: 12pt\; font-family: Aptos\, sans-serif\;">Has your organization been impacted by recent Federal and State budget cuts?<br />\n<br />\nThe Talbot Family Network\, Mid-Shore Community Foundation\, and the Talbot County Chamber of Commerce invite you to attend a forum to discuss how these budget changes are affecting nonprofits in Talbot County.<br />\n<br />\nThis&nbsp\;meeting will provide an opportunity for local organizations to share their experiences and challenges\, including impacts on budgets\, service delivery\, and overall mission.&nbsp\;<br />\n<br />\nYour insights will be invaluable as we assess the broader effects of these changes on our community.<br />\n<br />\nUse this Google form to register:</p>\n</div>\n\n<div style="border: 0px\; font-variant-numeric: inherit\; font-variant-east-asian: inherit\; font-variant-alternates: inherit\; font-variant-position: inherit\; font-variant-emoji: inherit\; font-stretch: inherit\; font-size: 15px\; line-height: inherit\; font-family: &quot\;Segoe UI&quot\;\, &quot\;Segoe UI Web (West European)&quot\;\, -apple-system\, BlinkMacSystemFont\, Roboto\, &quot\;Helvetica Neue&quot\;\, sans-serif\; font-optical-sizing: inherit\; font-size-adjust: inherit\; font-kerning: inherit\; font-feature-settings: inherit\; font-variation-settings: inherit\; margin: 0px\; padding: 0px\; vertical-align: baseline\; color: rgb(36\, 36\, 36)\;">\n<p class="x_MsoNormal" style="margin: 0in\; font-size: 12pt\; font-family: Aptos\, sans-serif\;">&nbsp\;</p>\n</div>\n\n<div style="border: 0px\; font-variant-numeric: inherit\; font-variant-east-asian: inherit\; font-variant-alternates: inherit\; font-variant-position: inherit\; font-variant-emoji: inherit\; font-stretch: inherit\; font-size: 15px\; line-height: inherit\; font-family: &quot\;Segoe UI&quot\;\, &quot\;Segoe UI Web (West European)&quot\;\, -apple-system\, BlinkMacSystemFont\, Roboto\, &quot\;Helvetica Neue&quot\;\, sans-serif\; font-optical-sizing: inherit\; font-size-adjust: inherit\; font-kerning: inherit\; font-feature-settings: inherit\; font-variation-settings: inherit\; margin: 0px\; padding: 0px\; vertical-align: baseline\; color: rgb(36\, 36\, 36)\;">\n<p class="x_MsoNormal" style="margin: 0in\; font-size: 12pt\; font-family: Aptos\, sans-serif\;"><a data-auth="NotApplicable" data-linkindex="4" href="https://docs.google.com/forms/d/e/1FAIpQLSfC_fdgyUdrgeLRV7SiBZ6eICeH3a6p76O6fGDbBLfYXDNSug/viewform?usp=dialog" style="border: 0px\; font: inherit\; margin: 0px\; padding: 0px\; vertical-align: baseline\; color: blue\;" title="https://docs.google.com/forms/d/e/1FAIpQLSfC_fdgyUdrgeLRV7SiBZ6eICeH3a6p76O6fGDbBLfYXDNSug/viewform?usp=dialog">REGISTER HERE</a></p>\n</div>\n\n<div style="border: 0px\; font-variant-numeric: inherit\; font-variant-east-asian: inherit\; font-variant-alternates: inherit\; font-variant-position: inherit\; font-variant-emoji: inherit\; font-stretch: inherit\; font-size: 15px\; line-height: inherit\; font-family: &quot\;Segoe UI&quot\;\, &quot\;Segoe UI Web (West European)&quot\;\, -apple-system\, BlinkMacSystemFont\, Roboto\, &quot\;Helvetica Neue&quot\;\, sans-serif\; font-optical-sizing: inherit\; font-size-adjust: inherit\; font-kerning: inherit\; font-feature-settings: inherit\; font-variation-settings: inherit\; margin: 0px\; padding: 0px\; vertical-align: baseline\; color: rgb(36\, 36\, 36)\;">\n<p aria-hidden="true" class="x_MsoNormal" style="margin: 0in\; font-size: 12pt\; font-family: Aptos\, sans-serif\;"><br />\nWe hope to see you there!<br />\n<br />\n<br />\nTalbot Family Network<br />\nMid-Shore Community Foundation<br />\nTalbot County Chamber of Commerce</p>\n</div>\n
LOCATION:Brookletts Place - Talbot Senior Center 400 Brookletts Ave.\, Easton\, MD
UID:e.3409.7951
SEQUENCE:3
DTSTAMP:20260421T111129Z
URL:https://www.talbotchamber.org/events/details/forum-on-budget-impacts-for-talbot-county-nonprofits-7951
END:VEVENT

END:VCALENDAR
