BEGIN:VCALENDAR
VERSION:2.0
PRODID:-//ChamberMaster//Event Calendar 2.0//EN
METHOD:PUBLISH
X-PUBLISHED-TTL:P3D
REFRESH-INTERVAL:P3D
CALSCALE:GREGORIAN
BEGIN:VEVENT
DTSTART:20250503T184500Z
DTEND:20250503T233000Z
X-MICROSOFT-CDO-ALLDAYEVENT:FALSE
SUMMARY:Foodie Talk Tour
DESCRIPTION:Join us for the Foodie Talk Tour: Baltimore Edition on May 3rd!  Explore the city's rich culinary scene with tastings at four local spots\, a guided walking tour\, and refreshing drinks. Don't miss out secure your spot before the April 5th deadline!
X-ALT-DESC;FMTTYPE=text/html:Join us for the <strong>Foodie Talk Tour: Baltimore Edition</strong> on May 3rd!&nbsp\; Explore the city&#39\;s rich culinary scene with tastings at four local spots\, a guided walking tour\, and refreshing drinks. Don&rsquo\;t miss out&mdash\;secure your spot before the April 5th deadline!
LOCATION:Maryland\, Baltimore
UID:e.3409.7802
SEQUENCE:3
DTSTAMP:20260421T084353Z
URL:https://www.talbotchamber.org/events/details/foodie-talk-tour-7802
END:VEVENT

END:VCALENDAR
