BEGIN:VCALENDAR
VERSION:2.0
PRODID:-//ChamberMaster//Event Calendar 2.0//EN
METHOD:PUBLISH
X-PUBLISHED-TTL:P3D
REFRESH-INTERVAL:P3D
CALSCALE:GREGORIAN
BEGIN:VEVENT
DTSTART:20250530T200000Z
DTEND:20250530T230000Z
X-MICROSOFT-CDO-ALLDAYEVENT:FALSE
SUMMARY:Flavor Fusion Fridays Foodie Pop Up
DESCRIPTION:Flavor Fusion Fridays Foodie Pop Up \n\n\n\nFusion Eats is back at Four Eleven Kitchen this Friday\, from 4 7 PM with next-level dishes like Curry Shrimp\, Rasta Pasta\, and Build-Your-Own Bowls!\n\n\n\n411-A Dorchester Ave\, Cambridge\, MD\n\n\n\nGood food. Great vibes. Don't miss it!
X-ALT-DESC;FMTTYPE=text/html:<span style="color:#000000"><span style="font-family:-apple-system\,blinkmacsystemfont\,segoe ui\,roboto\,helvetica\,arial\,sans-serif\; font-size:14px">Flavor Fusion Fridays Foodie Pop Up&nbsp\;</span><br />\n<br />\n<span style="font-family:-apple-system\,blinkmacsystemfont\,segoe ui\,roboto\,helvetica\,arial\,sans-serif\; font-size:14px">Fusion Eats is back at Four Eleven Kitchen this Friday\, from 4&ndash\;7 PM with next-level dishes like Curry Shrimp\, Rasta Pasta\, and Build-Your-Own Bowls!</span><br />\n<br />\n<span style="font-family:-apple-system\,blinkmacsystemfont\,segoe ui\,roboto\,helvetica\,arial\,sans-serif\; font-size:14px">411-A Dorchester Ave\, Cambridge\, MD</span><br />\n<br />\n<span style="font-family:-apple-system\,blinkmacsystemfont\,segoe ui\,roboto\,helvetica\,arial\,sans-serif\; font-size:14px">Good food. Great vibes. Don&rsquo\;t miss it!</span></span>
LOCATION:411 Dorchester Ave Cambridge\, MD
UID:e.3409.8001
SEQUENCE:3
DTSTAMP:20260421T065001Z
URL:https://www.talbotchamber.org/events/details/flavor-fusion-fridays-foodie-pop-up-05-30-2025-8001
END:VEVENT

END:VCALENDAR
