BEGIN:VCALENDAR
VERSION:2.0
PRODID:-//ChamberMaster//Event Calendar 2.0//EN
METHOD:PUBLISH
X-PUBLISHED-TTL:P3D
REFRESH-INTERVAL:P3D
CALSCALE:GREGORIAN
BEGIN:VEVENT
DTSTART:20251017T223000Z
DTEND:20251018T013000Z
X-MICROSOFT-CDO-ALLDAYEVENT:FALSE
SUMMARY:Fire & Spirits Igniting the Mission of Talbot Humane
DESCRIPTION:We're delighted to invite you to our inaugural Fire & Spirits event on October 17\, 2025 at The Ivy Cafe.\n\nVIP Tasting Experience   6:30-7:30pm followed by Primary Celebration- 7:30-9:30.\n\n \n\nThis signature evening brings together passionate animal advocates and friends of Talbot Humane for a welcoming celebration of our shared commitment to animal welfare. Picture an atmosphere of comfortable elegance Enjoy exceptional spirits curated by regional craft distillers\, thoughtfully prepared cuisine\, and the pleasure of meaningful connection and celebration surrounded by the beauty of The Ivy gardens.\n\nThis gathering honors the remarkable growth of Talbot Humane while welcoming new voices to our mission. It's an evening designed for those who appreciate both fine experiences and purposeful causes the perfect opportunity to connect with like-minded individuals who understand that some of life's most rewarding moments happen when we come together for something greater than ourselves.
X-ALT-DESC;FMTTYPE=text/html:<div style="text-align:center"><strong>We&#39\;re delighted to invite you to our inaugural Fire &amp\; Spirits event on October 17\, 2025 at The Ivy Cafe.</strong></div>\n\n<div style="text-align:center"><strong>VIP Tasting Experience &ndash\; 6:30-7:30pm followed by Primary Celebration- 7:30-9:30.</strong></div>\n\n<div>&nbsp\;</div>\n\n<div>This signature evening brings together passionate animal advocates and friends of Talbot Humane for a welcoming celebration of our shared commitment to animal welfare. Picture an atmosphere of comfortable elegance&mdash\;Enjoy exceptional spirits curated by regional craft distillers\, thoughtfully prepared cuisine\, and the pleasure of meaningful connection and celebration surrounded by the beauty of The Ivy gardens.</div>\n\n<p>This gathering honors the remarkable growth of Talbot Humane while welcoming new voices to our mission. It&#39\;s an evening designed for those who appreciate both fine experiences and purposeful causes&mdash\;the perfect opportunity to connect with like-minded individuals who understand that some of life&#39\;s most rewarding moments happen when we come together for something greater than ourselves.</p>\n\n<p>&nbsp\;</p>\n\n<p>&nbsp\;</p>\n
LOCATION:The Ivy Cafe
UID:e.3409.8124
SEQUENCE:3
DTSTAMP:20260420T215408Z
URL:https://www.talbotchamber.org/events/details/fire-spirits-igniting-the-mission-of-talbot-humane-8124
END:VEVENT

END:VCALENDAR
